BEGIN:VCALENDAR
VERSION:2.0
PRODID:-//Ben Wilson Senior Activity Center - ECPv6.15.20//NONSGML v1.0//EN
CALSCALE:GREGORIAN
METHOD:PUBLISH
X-WR-CALNAME:Ben Wilson Senior Activity Center
X-ORIGINAL-URL:https://bwsac.org
X-WR-CALDESC:Events for Ben Wilson Senior Activity Center
REFRESH-INTERVAL;VALUE=DURATION:PT1H
X-Robots-Tag:noindex
X-PUBLISHED-TTL:PT1H
BEGIN:VTIMEZONE
TZID:America/New_York
BEGIN:DAYLIGHT
TZOFFSETFROM:-0500
TZOFFSETTO:-0400
TZNAME:EDT
DTSTART:20250309T070000
END:DAYLIGHT
BEGIN:STANDARD
TZOFFSETFROM:-0400
TZOFFSETTO:-0500
TZNAME:EST
DTSTART:20251102T060000
END:STANDARD
BEGIN:DAYLIGHT
TZOFFSETFROM:-0500
TZOFFSETTO:-0400
TZNAME:EDT
DTSTART:20260308T070000
END:DAYLIGHT
BEGIN:STANDARD
TZOFFSETFROM:-0400
TZOFFSETTO:-0500
TZNAME:EST
DTSTART:20261101T060000
END:STANDARD
BEGIN:DAYLIGHT
TZOFFSETFROM:-0500
TZOFFSETTO:-0400
TZNAME:EDT
DTSTART:20270314T070000
END:DAYLIGHT
BEGIN:STANDARD
TZOFFSETFROM:-0400
TZOFFSETTO:-0500
TZNAME:EST
DTSTART:20271107T060000
END:STANDARD
END:VTIMEZONE
BEGIN:VEVENT
DTSTART;TZID=America/New_York:20260422T090000
DTEND;TZID=America/New_York:20260422T110000
DTSTAMP:20260422T064703
CREATED:20231201T235713Z
LAST-MODIFIED:20231202T000134Z
UID:10003702-1776848400-1776855600@bwsac.org
SUMMARY:Chess Club
DESCRIPTION:$1.00 per activity per day per member $2.00 per activity per day per non-member
URL:https://bwsac.org/calendar/chess-club/2026-04-22/
CATEGORIES:Events
END:VEVENT
BEGIN:VEVENT
DTSTART;TZID=America/New_York:20260422T090000
DTEND;TZID=America/New_York:20260422T110000
DTSTAMP:20260422T064703
CREATED:20231202T013129Z
LAST-MODIFIED:20231202T020023Z
UID:10008123-1776848400-1776855600@bwsac.org
SUMMARY:Wood Carving
DESCRIPTION:$1.00 per activity per day per member $2.00 per activity per day per non-member
URL:https://bwsac.org/calendar/wood-carving/2026-04-22/
CATEGORIES:Events
END:VEVENT
BEGIN:VEVENT
DTSTART;TZID=America/New_York:20260422T090000
DTEND;TZID=America/New_York:20260422T150000
DTSTAMP:20260422T064703
CREATED:20260331T174532Z
LAST-MODIFIED:20260331T174636Z
UID:10005256-1776848400-1776870000@bwsac.org
SUMMARY:Billiards
DESCRIPTION:$1.00 per activity per day per member\, $2.00 per activity per day per non-member
URL:https://bwsac.org/calendar/billiards/2026-04-22/
CATEGORIES:Events
END:VEVENT
BEGIN:VEVENT
DTSTART;TZID=America/New_York:20260422T093000
DTEND;TZID=America/New_York:20260422T110000
DTSTAMP:20260422T064703
CREATED:20231202T013559Z
LAST-MODIFIED:20231202T013630Z
UID:10008508-1776850200-1776855600@bwsac.org
SUMMARY:Bingo
DESCRIPTION:Bingo $5.00 – 15 games. $10 payout per game to winner(s). Thursday’s payout may be lower depending on attendance. See more details here.
URL:https://bwsac.org/calendar/bingo/2026-04-22/
CATEGORIES:Events
END:VEVENT
BEGIN:VEVENT
DTSTART;TZID=America/New_York:20260422T114500
DTEND;TZID=America/New_York:20260422T130000
DTSTAMP:20260422T064703
CREATED:20260331T180112Z
LAST-MODIFIED:20260331T180201Z
UID:10010582-1776858300-1776862800@bwsac.org
SUMMARY:Lunch
DESCRIPTION:You must pre-register for Lunch. See flyer.
URL:https://bwsac.org/calendar/lunch/2026-04-22/
CATEGORIES:Events
END:VEVENT
BEGIN:VEVENT
DTSTART;TZID=America/New_York:20260422T123000
DTEND;TZID=America/New_York:20260422T150000
DTSTAMP:20260422T064703
CREATED:20260331T193549Z
LAST-MODIFIED:20260331T193624Z
UID:10026977-1776861000-1776870000@bwsac.org
SUMMARY:Card Games
DESCRIPTION:$1.00 per activity per day per member $2.00 per activity per day per non-member
URL:https://bwsac.org/calendar/card-games/2026-04-22/
CATEGORIES:Events
END:VEVENT
BEGIN:VEVENT
DTSTART;TZID=America/New_York:20260422T130000
DTEND;TZID=America/New_York:20260422T143000
DTSTAMP:20260422T064703
CREATED:20231202T015351Z
LAST-MODIFIED:20231202T021718Z
UID:10009428-1776862800-1776868200@bwsac.org
SUMMARY:Computer Help Session (By appt. only)
DESCRIPTION:Adele’s Tech Team has computer help sessions BY APPOINTMENT. Write Adele for an appointment at roseadele@yahoo.com\, or leave your name and phone number at the front desk. https://bwsac.org/calendar/category/classes/
URL:https://bwsac.org/calendar/computer-help-session-by-appt-only/2026-04-22/
CATEGORIES:Classes,Computer,Events
END:VEVENT
BEGIN:VEVENT
DTSTART;TZID=America/New_York:20260422T130000
DTEND;TZID=America/New_York:20260422T143000
DTSTAMP:20260422T064703
CREATED:20250228T205545Z
LAST-MODIFIED:20260115T160231Z
UID:10017662-1776862800-1776868200@bwsac.org
SUMMARY:Line Dancing
DESCRIPTION:$1.00 per activity per day per member $2.00 per activity per day per non-member \n\n\n\n$5 to Dance Teacher
URL:https://bwsac.org/calendar/beginners-line-dancing-2/2026-04-22/
CATEGORIES:Events
END:VEVENT
END:VCALENDAR