BEGIN:VCALENDAR
VERSION:2.0
PRODID:-//Ben Wilson Senior Activity Center - ECPv6.15.20//NONSGML v1.0//EN
CALSCALE:GREGORIAN
METHOD:PUBLISH
X-WR-CALNAME:Ben Wilson Senior Activity Center
X-ORIGINAL-URL:https://bwsac.org
X-WR-CALDESC:Events for Ben Wilson Senior Activity Center
REFRESH-INTERVAL;VALUE=DURATION:PT1H
X-Robots-Tag:noindex
X-PUBLISHED-TTL:PT1H
BEGIN:VTIMEZONE
TZID:America/New_York
BEGIN:DAYLIGHT
TZOFFSETFROM:-0500
TZOFFSETTO:-0400
TZNAME:EDT
DTSTART:20250309T070000
END:DAYLIGHT
BEGIN:STANDARD
TZOFFSETFROM:-0400
TZOFFSETTO:-0500
TZNAME:EST
DTSTART:20251102T060000
END:STANDARD
BEGIN:DAYLIGHT
TZOFFSETFROM:-0500
TZOFFSETTO:-0400
TZNAME:EDT
DTSTART:20260308T070000
END:DAYLIGHT
BEGIN:STANDARD
TZOFFSETFROM:-0400
TZOFFSETTO:-0500
TZNAME:EST
DTSTART:20261101T060000
END:STANDARD
BEGIN:DAYLIGHT
TZOFFSETFROM:-0500
TZOFFSETTO:-0400
TZNAME:EDT
DTSTART:20270314T070000
END:DAYLIGHT
BEGIN:STANDARD
TZOFFSETFROM:-0400
TZOFFSETTO:-0500
TZNAME:EST
DTSTART:20271107T060000
END:STANDARD
END:VTIMEZONE
BEGIN:VEVENT
DTSTART;TZID=America/New_York:20260423T080000
DTEND;TZID=America/New_York:20260423T170000
DTSTAMP:20260423T014242
CREATED:20251031T173901Z
LAST-MODIFIED:20251031T173920Z
UID:10015843-1776931200-1776963600@bwsac.org
SUMMARY:Triple Play
DESCRIPTION:Want to try a new card game? It is called Triple Play! Otherwise known as Hand\, Knee\, and Foot\, it is a variation on Canasta for four players in partnerships. We have someone willing to teach the game to anyone interested. Please leave your name and phone number at the front desk if you are interested and we will call you and let you know when the club will be starting. See the flyer here.
URL:https://bwsac.org/calendar/triple-play/2026-04-23/
CATEGORIES:Events
END:VEVENT
BEGIN:VEVENT
DTSTART;TZID=America/New_York:20260423T090000
DTEND;TZID=America/New_York:20260423T150000
DTSTAMP:20260423T014242
CREATED:20260331T174532Z
LAST-MODIFIED:20260331T174636Z
UID:10005257-1776934800-1776956400@bwsac.org
SUMMARY:Billiards
DESCRIPTION:$1.00 per activity per day per member\, $2.00 per activity per day per non-member
URL:https://bwsac.org/calendar/billiards/2026-04-23/
CATEGORIES:Events
END:VEVENT
BEGIN:VEVENT
DTSTART;TZID=America/New_York:20260423T093000
DTEND;TZID=America/New_York:20260423T110000
DTSTAMP:20260423T014242
CREATED:20231202T013559Z
LAST-MODIFIED:20231202T013630Z
UID:10008509-1776936600-1776942000@bwsac.org
SUMMARY:Bingo
DESCRIPTION:Bingo $5.00 – 15 games. $10 payout per game to winner(s). Thursday’s payout may be lower depending on attendance. See more details here.
URL:https://bwsac.org/calendar/bingo/2026-04-23/
CATEGORIES:Events
END:VEVENT
BEGIN:VEVENT
DTSTART;TZID=America/New_York:20260423T114500
DTEND;TZID=America/New_York:20260423T130000
DTSTAMP:20260423T014242
CREATED:20260331T180112Z
LAST-MODIFIED:20260331T180201Z
UID:10010583-1776944700-1776949200@bwsac.org
SUMMARY:Lunch
DESCRIPTION:You must pre-register for Lunch. See flyer.
URL:https://bwsac.org/calendar/lunch/2026-04-23/
CATEGORIES:Events
END:VEVENT
BEGIN:VEVENT
DTSTART;TZID=America/New_York:20260423T123000
DTEND;TZID=America/New_York:20260423T133000
DTSTAMP:20260423T014242
CREATED:20231202T004813Z
LAST-MODIFIED:20231202T004856Z
UID:10006763-1776947400-1776951000@bwsac.org
SUMMARY:Aerobics
DESCRIPTION:$1.00 per activity per day per member $2.00 per activity per day per non-member
URL:https://bwsac.org/calendar/aerobics-2/2026-04-23/
CATEGORIES:Events
END:VEVENT
BEGIN:VEVENT
DTSTART;TZID=America/New_York:20260423T123000
DTEND;TZID=America/New_York:20260423T150000
DTSTAMP:20260423T014242
CREATED:20260331T193549Z
LAST-MODIFIED:20260331T193624Z
UID:10026978-1776947400-1776956400@bwsac.org
SUMMARY:Card Games
DESCRIPTION:$1.00 per activity per day per member $2.00 per activity per day per non-member
URL:https://bwsac.org/calendar/card-games/2026-04-23/
CATEGORIES:Events
END:VEVENT
END:VCALENDAR