BEGIN:VCALENDAR
VERSION:2.0
PRODID:-//Ben Wilson Senior Activity Center - ECPv6.15.20//NONSGML v1.0//EN
CALSCALE:GREGORIAN
METHOD:PUBLISH
X-ORIGINAL-URL:https://bwsac.org
X-WR-CALDESC:Events for Ben Wilson Senior Activity Center
REFRESH-INTERVAL;VALUE=DURATION:PT1H
X-Robots-Tag:noindex
X-PUBLISHED-TTL:PT1H
BEGIN:VTIMEZONE
TZID:America/New_York
BEGIN:DAYLIGHT
TZOFFSETFROM:-0500
TZOFFSETTO:-0400
TZNAME:EDT
DTSTART:20250309T070000
END:DAYLIGHT
BEGIN:STANDARD
TZOFFSETFROM:-0400
TZOFFSETTO:-0500
TZNAME:EST
DTSTART:20251102T060000
END:STANDARD
BEGIN:DAYLIGHT
TZOFFSETFROM:-0500
TZOFFSETTO:-0400
TZNAME:EDT
DTSTART:20260308T070000
END:DAYLIGHT
BEGIN:STANDARD
TZOFFSETFROM:-0400
TZOFFSETTO:-0500
TZNAME:EST
DTSTART:20261101T060000
END:STANDARD
BEGIN:DAYLIGHT
TZOFFSETFROM:-0500
TZOFFSETTO:-0400
TZNAME:EDT
DTSTART:20270314T070000
END:DAYLIGHT
BEGIN:STANDARD
TZOFFSETFROM:-0400
TZOFFSETTO:-0500
TZNAME:EST
DTSTART:20271107T060000
END:STANDARD
END:VTIMEZONE
BEGIN:VEVENT
DTSTART;TZID=America/New_York:20260430T100000
DTEND;TZID=America/New_York:20260430T170000
DTSTAMP:20260422T235140
CREATED:20250930T180113Z
LAST-MODIFIED:20260130T180652Z
UID:10015738-1777543200-1777568400@bwsac.org
SUMMARY:Act II Playhouse - Goodnight Gracie
DESCRIPTION:See flyer here. Returning to the Playhouse after its successful run in 2007\, Tony Braithwaite assumes the mantel of beloved comedian\, George Burns\, in a one-man show devoted to Burns’ life and work: first as a double act alongside his beloved wife and comedy partner\, Gracie Allen\, and later as a solo performer whose career was revitalized late in life. Playwright Rupert Holmes has praised Tony’s portrayal in a show that is guaranteed to delight Act II audiences.
URL:https://bwsac.org/calendar/act-ii-playhouse-goodnight-gracie/
CATEGORIES:Trips
END:VEVENT
END:VCALENDAR