BEGIN:VCALENDAR
VERSION:2.0
PRODID:-//Ben Wilson Senior Activity Center - ECPv6.15.20//NONSGML v1.0//EN
CALSCALE:GREGORIAN
METHOD:PUBLISH
X-ORIGINAL-URL:https://bwsac.org
X-WR-CALDESC:Events for Ben Wilson Senior Activity Center
REFRESH-INTERVAL;VALUE=DURATION:PT1H
X-Robots-Tag:noindex
X-PUBLISHED-TTL:PT1H
BEGIN:VTIMEZONE
TZID:America/New_York
BEGIN:DAYLIGHT
TZOFFSETFROM:-0500
TZOFFSETTO:-0400
TZNAME:EDT
DTSTART:20250309T070000
END:DAYLIGHT
BEGIN:STANDARD
TZOFFSETFROM:-0400
TZOFFSETTO:-0500
TZNAME:EST
DTSTART:20251102T060000
END:STANDARD
BEGIN:DAYLIGHT
TZOFFSETFROM:-0500
TZOFFSETTO:-0400
TZNAME:EDT
DTSTART:20260308T070000
END:DAYLIGHT
BEGIN:STANDARD
TZOFFSETFROM:-0400
TZOFFSETTO:-0500
TZNAME:EST
DTSTART:20261101T060000
END:STANDARD
BEGIN:DAYLIGHT
TZOFFSETFROM:-0500
TZOFFSETTO:-0400
TZNAME:EDT
DTSTART:20270314T070000
END:DAYLIGHT
BEGIN:STANDARD
TZOFFSETFROM:-0400
TZOFFSETTO:-0500
TZNAME:EST
DTSTART:20271107T060000
END:STANDARD
END:VTIMEZONE
BEGIN:VEVENT
DTSTART;TZID=America/New_York:20260501T180000
DTEND;TZID=America/New_York:20260501T210000
DTSTAMP:20260423T013045
CREATED:20260226T202647Z
LAST-MODIFIED:20260331T192612Z
UID:10023283-1777658400-1777669200@bwsac.org
SUMMARY:Not Just Designer Bags Bingo
DESCRIPTION:See flyer here.  \n\n\n\nDoors open at 6:00pm / Bingo begins at 7:00 pm580 Delmont Avenue\, Warminster\, PA \n\n\n\n$35 pp/$190 for a table of 6 (only sold in packs of 6)$40 pp at door (only offered if seats are still available) \n\n\n\nEntrance fee includes one package of 12 BINGO sheets(Additional BINGO boards & specials will be sold at the event) \n\n\n\nBYOB and BYOF \n\n\n\nNot Just Designer Bags….50/50….Raffle ItemsFor information & tickets contact the Center at 215-672-8380 \n\n\n\nSponsorships Available
URL:https://bwsac.org/calendar/not-just-designer-bags-bingo/
CATEGORIES:Events
END:VEVENT
END:VCALENDAR