BEGIN:VCALENDAR
VERSION:2.0
PRODID:-//Ben Wilson Senior Activity Center - ECPv6.15.20//NONSGML v1.0//EN
CALSCALE:GREGORIAN
METHOD:PUBLISH
X-WR-CALNAME:Ben Wilson Senior Activity Center
X-ORIGINAL-URL:https://bwsac.org
X-WR-CALDESC:Events for Ben Wilson Senior Activity Center
REFRESH-INTERVAL;VALUE=DURATION:PT1H
X-Robots-Tag:noindex
X-PUBLISHED-TTL:PT1H
BEGIN:VTIMEZONE
TZID:America/New_York
BEGIN:DAYLIGHT
TZOFFSETFROM:-0500
TZOFFSETTO:-0400
TZNAME:EDT
DTSTART:20250309T070000
END:DAYLIGHT
BEGIN:STANDARD
TZOFFSETFROM:-0400
TZOFFSETTO:-0500
TZNAME:EST
DTSTART:20251102T060000
END:STANDARD
BEGIN:DAYLIGHT
TZOFFSETFROM:-0500
TZOFFSETTO:-0400
TZNAME:EDT
DTSTART:20260308T070000
END:DAYLIGHT
BEGIN:STANDARD
TZOFFSETFROM:-0400
TZOFFSETTO:-0500
TZNAME:EST
DTSTART:20261101T060000
END:STANDARD
BEGIN:DAYLIGHT
TZOFFSETFROM:-0500
TZOFFSETTO:-0400
TZNAME:EDT
DTSTART:20270314T070000
END:DAYLIGHT
BEGIN:STANDARD
TZOFFSETFROM:-0400
TZOFFSETTO:-0500
TZNAME:EST
DTSTART:20271107T060000
END:STANDARD
END:VTIMEZONE
BEGIN:VEVENT
DTSTART;TZID=America/New_York:20260512T084500
DTEND;TZID=America/New_York:20260512T170000
DTSTAMP:20260423T144533
CREATED:20250930T181350Z
LAST-MODIFIED:20260130T181049Z
UID:10015739-1778575500-1778605200@bwsac.org
SUMMARY:Penn's Peak - Beatlemania
DESCRIPTION:See flyer here. From the moment this amazing cast of Ersatz Beatles appear on stage in their tight dark suits and skinny ties\, audience members remain under their spell…And although they’re all Americans\, they sound as if they’ve just stepped off a plane from Liverpool. It’s a show that will have you signing along\, dancing in the aisle\,s and experiencing emotions you thought were long forgotten.
URL:https://bwsac.org/calendar/penns-peak-beatlemania/
CATEGORIES:Trips
END:VEVENT
END:VCALENDAR