BEGIN:VCALENDAR
VERSION:2.0
PRODID:-//Ben Wilson Senior Activity Center - ECPv6.15.20//NONSGML v1.0//EN
CALSCALE:GREGORIAN
METHOD:PUBLISH
X-WR-CALNAME:Ben Wilson Senior Activity Center
X-ORIGINAL-URL:https://bwsac.org
X-WR-CALDESC:Events for Ben Wilson Senior Activity Center
REFRESH-INTERVAL;VALUE=DURATION:PT1H
X-Robots-Tag:noindex
X-PUBLISHED-TTL:PT1H
BEGIN:VTIMEZONE
TZID:America/New_York
BEGIN:DAYLIGHT
TZOFFSETFROM:-0500
TZOFFSETTO:-0400
TZNAME:EDT
DTSTART:20250309T070000
END:DAYLIGHT
BEGIN:STANDARD
TZOFFSETFROM:-0400
TZOFFSETTO:-0500
TZNAME:EST
DTSTART:20251102T060000
END:STANDARD
BEGIN:DAYLIGHT
TZOFFSETFROM:-0500
TZOFFSETTO:-0400
TZNAME:EDT
DTSTART:20260308T070000
END:DAYLIGHT
BEGIN:STANDARD
TZOFFSETFROM:-0400
TZOFFSETTO:-0500
TZNAME:EST
DTSTART:20261101T060000
END:STANDARD
BEGIN:DAYLIGHT
TZOFFSETFROM:-0500
TZOFFSETTO:-0400
TZNAME:EDT
DTSTART:20270314T070000
END:DAYLIGHT
BEGIN:STANDARD
TZOFFSETFROM:-0400
TZOFFSETTO:-0500
TZNAME:EST
DTSTART:20271107T060000
END:STANDARD
END:VTIMEZONE
BEGIN:VEVENT
DTSTART;TZID=America/New_York:20260428T090000
DTEND;TZID=America/New_York:20260428T110000
DTSTAMP:20260422T210211
CREATED:20260130T173153Z
LAST-MODIFIED:20260130T173219Z
UID:10022607-1777366800-1777374000@bwsac.org
SUMMARY:Triple Play
DESCRIPTION:$1.00 per activity per day per member $2.00 per activity per day per non-member
URL:https://bwsac.org/calendar/triple-play-2/2026-04-28/
CATEGORIES:Events
END:VEVENT
BEGIN:VEVENT
DTSTART;TZID=America/New_York:20260428T093000
DTEND;TZID=America/New_York:20260428T110000
DTSTAMP:20260422T210211
CREATED:20231202T011012Z
LAST-MODIFIED:20260317T200006Z
UID:10025807-1777368600-1777374000@bwsac.org
SUMMARY:Bango
DESCRIPTION:Bango pay as you play
URL:https://bwsac.org/calendar/bango/2026-04-28/
CATEGORIES:Events
END:VEVENT
BEGIN:VEVENT
DTSTART;TZID=America/New_York:20260428T100000
DTEND;TZID=America/New_York:20260428T110000
DTSTAMP:20260422T210211
CREATED:20260331T191655Z
LAST-MODIFIED:20260331T191757Z
UID:10026963-1777370400-1777374000@bwsac.org
SUMMARY:Nutrition Class
DESCRIPTION:Amanda Senior Care: Nutrition and Aging in Place \n\n\n\nJoin Matt and Caitlyn from Amada Senior Care for a discussion on the crucial role nutrition plays in healthy aging at home. Good nutrition is not just about maintaining a balanced diet; it’s essential for enhancing vitality\, supporting the immune system\, and promoting overall well-being in our senior years. \n\n\n\nDuring this informative session\, you’ll discover practical tips for self-care\, explore various nutrition options tailored for seniors\, and learn about the financial strategies to make healthcare more accessible. \n\n\n\nA Light Brunch is to be provided compliments of Amada Senior Care. \n\n\n\nSee flyer here.
URL:https://bwsac.org/calendar/nutrition-class/
CATEGORIES:Events
END:VEVENT
BEGIN:VEVENT
DTSTART;TZID=America/New_York:20260428T130000
DTEND;TZID=America/New_York:20260428T150000
DTSTAMP:20260422T210211
CREATED:20240628T153803Z
LAST-MODIFIED:20240628T153814Z
UID:10013527-1777381200-1777388400@bwsac.org
SUMMARY:Mah Jongg
DESCRIPTION:If you would like to learn how to play Mah Jongg we will teach you. Leave your name and phone number at the front desk and someone will get back to you with a date and who will be your instructor. \n\n\n\nLearn Mah Jongg. See flyer here.
URL:https://bwsac.org/calendar/mah-jongg-2/2026-04-28/
CATEGORIES:Events
END:VEVENT
END:VCALENDAR