BEGIN:VCALENDAR
VERSION:2.0
PRODID:-//Ben Wilson Senior Activity Center - ECPv6.15.20//NONSGML v1.0//EN
CALSCALE:GREGORIAN
METHOD:PUBLISH
X-ORIGINAL-URL:https://bwsac.org
X-WR-CALDESC:Events for Ben Wilson Senior Activity Center
REFRESH-INTERVAL;VALUE=DURATION:PT1H
X-Robots-Tag:noindex
X-PUBLISHED-TTL:PT1H
BEGIN:VTIMEZONE
TZID:America/New_York
BEGIN:DAYLIGHT
TZOFFSETFROM:-0500
TZOFFSETTO:-0400
TZNAME:EDT
DTSTART:20250309T070000
END:DAYLIGHT
BEGIN:STANDARD
TZOFFSETFROM:-0400
TZOFFSETTO:-0500
TZNAME:EST
DTSTART:20251102T060000
END:STANDARD
BEGIN:DAYLIGHT
TZOFFSETFROM:-0500
TZOFFSETTO:-0400
TZNAME:EDT
DTSTART:20260308T070000
END:DAYLIGHT
BEGIN:STANDARD
TZOFFSETFROM:-0400
TZOFFSETTO:-0500
TZNAME:EST
DTSTART:20261101T060000
END:STANDARD
BEGIN:DAYLIGHT
TZOFFSETFROM:-0500
TZOFFSETTO:-0400
TZNAME:EDT
DTSTART:20270314T070000
END:DAYLIGHT
BEGIN:STANDARD
TZOFFSETFROM:-0400
TZOFFSETTO:-0500
TZNAME:EST
DTSTART:20271107T060000
END:STANDARD
END:VTIMEZONE
BEGIN:VEVENT
DTSTART;TZID=America/New_York:20260429T100000
DTEND;TZID=America/New_York:20260429T120000
DTSTAMP:20260422T210526
CREATED:20241231T182350Z
LAST-MODIFIED:20241231T182418Z
UID:10013852-1777456800-1777464000@bwsac.org
SUMMARY:Staff from State Rep. Brian Munroe
DESCRIPTION:Brian Munroe’s office staff will be coming on the last Wednesday of each month to assist you with Septa pass sign-up\, energy assistance\, reduced auto registration\, prescription assistance\, property tax/rent rebate\, etc.
URL:https://bwsac.org/calendar/staff-from-state-rep-brian-munroe/2026-04-29/
CATEGORIES:Events
END:VEVENT
END:VCALENDAR