BEGIN:VCALENDAR
VERSION:2.0
PRODID:-//Ben Wilson Senior Activity Center - ECPv6.15.20//NONSGML v1.0//EN
CALSCALE:GREGORIAN
METHOD:PUBLISH
X-WR-CALNAME:Ben Wilson Senior Activity Center
X-ORIGINAL-URL:https://bwsac.org
X-WR-CALDESC:Events for Ben Wilson Senior Activity Center
REFRESH-INTERVAL;VALUE=DURATION:PT1H
X-Robots-Tag:noindex
X-PUBLISHED-TTL:PT1H
BEGIN:VTIMEZONE
TZID:America/New_York
BEGIN:DAYLIGHT
TZOFFSETFROM:-0500
TZOFFSETTO:-0400
TZNAME:EDT
DTSTART:20250309T070000
END:DAYLIGHT
BEGIN:STANDARD
TZOFFSETFROM:-0400
TZOFFSETTO:-0500
TZNAME:EST
DTSTART:20251102T060000
END:STANDARD
BEGIN:DAYLIGHT
TZOFFSETFROM:-0500
TZOFFSETTO:-0400
TZNAME:EDT
DTSTART:20260308T070000
END:DAYLIGHT
BEGIN:STANDARD
TZOFFSETFROM:-0400
TZOFFSETTO:-0500
TZNAME:EST
DTSTART:20261101T060000
END:STANDARD
BEGIN:DAYLIGHT
TZOFFSETFROM:-0500
TZOFFSETTO:-0400
TZNAME:EDT
DTSTART:20270314T070000
END:DAYLIGHT
BEGIN:STANDARD
TZOFFSETFROM:-0400
TZOFFSETTO:-0500
TZNAME:EST
DTSTART:20271107T060000
END:STANDARD
BEGIN:DAYLIGHT
TZOFFSETFROM:-0500
TZOFFSETTO:-0400
TZNAME:EDT
DTSTART:20280312T070000
END:DAYLIGHT
BEGIN:STANDARD
TZOFFSETFROM:-0400
TZOFFSETTO:-0500
TZNAME:EST
DTSTART:20281105T060000
END:STANDARD
BEGIN:DAYLIGHT
TZOFFSETFROM:-0500
TZOFFSETTO:-0400
TZNAME:EDT
DTSTART:20290311T070000
END:DAYLIGHT
BEGIN:STANDARD
TZOFFSETFROM:-0400
TZOFFSETTO:-0500
TZNAME:EST
DTSTART:20291104T060000
END:STANDARD
END:VTIMEZONE
BEGIN:VEVENT
DTSTART;TZID=America/New_York:20260427T090000
DTEND;TZID=America/New_York:20260427T114500
DTSTAMP:20260422T113104
CREATED:20231202T002028Z
LAST-MODIFIED:20231202T004156Z
UID:10005830-1777280400-1777290300@bwsac.org
SUMMARY:Haircuts
DESCRIPTION:Please call for an appointment at 215-672-8380 – The cost is $10.
URL:https://bwsac.org/calendar/haircuts/2026-04-27/
CATEGORIES:Events
END:VEVENT
BEGIN:VEVENT
DTSTART;TZID=America/New_York:20260525T090000
DTEND;TZID=America/New_York:20260525T114500
DTSTAMP:20260422T113104
CREATED:20231202T002028Z
LAST-MODIFIED:20231202T004156Z
UID:10005831-1779699600-1779709500@bwsac.org
SUMMARY:Haircuts
DESCRIPTION:Please call for an appointment at 215-672-8380 – The cost is $10.
URL:https://bwsac.org/calendar/haircuts/2026-05-25/
CATEGORIES:Events
END:VEVENT
BEGIN:VEVENT
DTSTART;TZID=America/New_York:20260622T090000
DTEND;TZID=America/New_York:20260622T114500
DTSTAMP:20260422T113104
CREATED:20231202T002028Z
LAST-MODIFIED:20231202T004156Z
UID:10005832-1782118800-1782128700@bwsac.org
SUMMARY:Haircuts
DESCRIPTION:Please call for an appointment at 215-672-8380 – The cost is $10.
URL:https://bwsac.org/calendar/haircuts/2026-06-22/
CATEGORIES:Events
END:VEVENT
BEGIN:VEVENT
DTSTART;TZID=America/New_York:20260727T090000
DTEND;TZID=America/New_York:20260727T114500
DTSTAMP:20260422T113104
CREATED:20231202T002028Z
LAST-MODIFIED:20231202T004156Z
UID:10005833-1785142800-1785152700@bwsac.org
SUMMARY:Haircuts
DESCRIPTION:Please call for an appointment at 215-672-8380 – The cost is $10.
URL:https://bwsac.org/calendar/haircuts/2026-07-27/
CATEGORIES:Events
END:VEVENT
BEGIN:VEVENT
DTSTART;TZID=America/New_York:20260824T090000
DTEND;TZID=America/New_York:20260824T114500
DTSTAMP:20260422T113104
CREATED:20231202T002028Z
LAST-MODIFIED:20231202T004156Z
UID:10005834-1787562000-1787571900@bwsac.org
SUMMARY:Haircuts
DESCRIPTION:Please call for an appointment at 215-672-8380 – The cost is $10.
URL:https://bwsac.org/calendar/haircuts/2026-08-24/
CATEGORIES:Events
END:VEVENT
BEGIN:VEVENT
DTSTART;TZID=America/New_York:20260928T090000
DTEND;TZID=America/New_York:20260928T114500
DTSTAMP:20260422T113104
CREATED:20231202T002028Z
LAST-MODIFIED:20231202T004156Z
UID:10005835-1790586000-1790595900@bwsac.org
SUMMARY:Haircuts
DESCRIPTION:Please call for an appointment at 215-672-8380 – The cost is $10.
URL:https://bwsac.org/calendar/haircuts/2026-09-28/
CATEGORIES:Events
END:VEVENT
BEGIN:VEVENT
DTSTART;TZID=America/New_York:20261026T090000
DTEND;TZID=America/New_York:20261026T114500
DTSTAMP:20260422T113104
CREATED:20231202T002028Z
LAST-MODIFIED:20231202T004156Z
UID:10005836-1793005200-1793015100@bwsac.org
SUMMARY:Haircuts
DESCRIPTION:Please call for an appointment at 215-672-8380 – The cost is $10.
URL:https://bwsac.org/calendar/haircuts/2026-10-26/
CATEGORIES:Events
END:VEVENT
BEGIN:VEVENT
DTSTART;TZID=America/New_York:20261123T090000
DTEND;TZID=America/New_York:20261123T114500
DTSTAMP:20260422T113104
CREATED:20231202T002028Z
LAST-MODIFIED:20231202T004156Z
UID:10005837-1795424400-1795434300@bwsac.org
SUMMARY:Haircuts
DESCRIPTION:Please call for an appointment at 215-672-8380 – The cost is $10.
URL:https://bwsac.org/calendar/haircuts/2026-11-23/
CATEGORIES:Events
END:VEVENT
BEGIN:VEVENT
DTSTART;TZID=America/New_York:20261228T090000
DTEND;TZID=America/New_York:20261228T114500
DTSTAMP:20260422T113104
CREATED:20231202T002028Z
LAST-MODIFIED:20231202T004156Z
UID:10005838-1798448400-1798458300@bwsac.org
SUMMARY:Haircuts
DESCRIPTION:Please call for an appointment at 215-672-8380 – The cost is $10.
URL:https://bwsac.org/calendar/haircuts/2026-12-28/
CATEGORIES:Events
END:VEVENT
BEGIN:VEVENT
DTSTART;TZID=America/New_York:20270125T090000
DTEND;TZID=America/New_York:20270125T114500
DTSTAMP:20260422T113104
CREATED:20231202T002028Z
LAST-MODIFIED:20231202T004156Z
UID:10005839-1800867600-1800877500@bwsac.org
SUMMARY:Haircuts
DESCRIPTION:Please call for an appointment at 215-672-8380 – The cost is $10.
URL:https://bwsac.org/calendar/haircuts/2027-01-25/
CATEGORIES:Events
END:VEVENT
BEGIN:VEVENT
DTSTART;TZID=America/New_York:20270222T090000
DTEND;TZID=America/New_York:20270222T114500
DTSTAMP:20260422T113104
CREATED:20231202T002028Z
LAST-MODIFIED:20231202T004156Z
UID:10005840-1803286800-1803296700@bwsac.org
SUMMARY:Haircuts
DESCRIPTION:Please call for an appointment at 215-672-8380 – The cost is $10.
URL:https://bwsac.org/calendar/haircuts/2027-02-22/
CATEGORIES:Events
END:VEVENT
BEGIN:VEVENT
DTSTART;TZID=America/New_York:20270322T090000
DTEND;TZID=America/New_York:20270322T114500
DTSTAMP:20260422T113104
CREATED:20231202T002028Z
LAST-MODIFIED:20231202T004156Z
UID:10005841-1805706000-1805715900@bwsac.org
SUMMARY:Haircuts
DESCRIPTION:Please call for an appointment at 215-672-8380 – The cost is $10.
URL:https://bwsac.org/calendar/haircuts/2027-03-22/
CATEGORIES:Events
END:VEVENT
BEGIN:VEVENT
DTSTART;TZID=America/New_York:20270426T090000
DTEND;TZID=America/New_York:20270426T114500
DTSTAMP:20260422T113104
CREATED:20231202T002028Z
LAST-MODIFIED:20231202T004156Z
UID:10005842-1808730000-1808739900@bwsac.org
SUMMARY:Haircuts
DESCRIPTION:Please call for an appointment at 215-672-8380 – The cost is $10.
URL:https://bwsac.org/calendar/haircuts/2027-04-26/
CATEGORIES:Events
END:VEVENT
BEGIN:VEVENT
DTSTART;TZID=America/New_York:20270524T090000
DTEND;TZID=America/New_York:20270524T114500
DTSTAMP:20260422T113104
CREATED:20231202T002028Z
LAST-MODIFIED:20231202T004156Z
UID:10005843-1811149200-1811159100@bwsac.org
SUMMARY:Haircuts
DESCRIPTION:Please call for an appointment at 215-672-8380 – The cost is $10.
URL:https://bwsac.org/calendar/haircuts/2027-05-24/
CATEGORIES:Events
END:VEVENT
BEGIN:VEVENT
DTSTART;TZID=America/New_York:20270628T090000
DTEND;TZID=America/New_York:20270628T114500
DTSTAMP:20260422T113104
CREATED:20231202T002028Z
LAST-MODIFIED:20231202T004156Z
UID:10005844-1814173200-1814183100@bwsac.org
SUMMARY:Haircuts
DESCRIPTION:Please call for an appointment at 215-672-8380 – The cost is $10.
URL:https://bwsac.org/calendar/haircuts/2027-06-28/
CATEGORIES:Events
END:VEVENT
BEGIN:VEVENT
DTSTART;TZID=America/New_York:20270726T090000
DTEND;TZID=America/New_York:20270726T114500
DTSTAMP:20260422T113104
CREATED:20231202T002028Z
LAST-MODIFIED:20231202T004156Z
UID:10005845-1816592400-1816602300@bwsac.org
SUMMARY:Haircuts
DESCRIPTION:Please call for an appointment at 215-672-8380 – The cost is $10.
URL:https://bwsac.org/calendar/haircuts/2027-07-26/
CATEGORIES:Events
END:VEVENT
BEGIN:VEVENT
DTSTART;TZID=America/New_York:20270823T090000
DTEND;TZID=America/New_York:20270823T114500
DTSTAMP:20260422T113104
CREATED:20231202T002028Z
LAST-MODIFIED:20231202T004156Z
UID:10005846-1819011600-1819021500@bwsac.org
SUMMARY:Haircuts
DESCRIPTION:Please call for an appointment at 215-672-8380 – The cost is $10.
URL:https://bwsac.org/calendar/haircuts/2027-08-23/
CATEGORIES:Events
END:VEVENT
BEGIN:VEVENT
DTSTART;TZID=America/New_York:20270927T090000
DTEND;TZID=America/New_York:20270927T114500
DTSTAMP:20260422T113104
CREATED:20231202T002028Z
LAST-MODIFIED:20231202T004156Z
UID:10005847-1822035600-1822045500@bwsac.org
SUMMARY:Haircuts
DESCRIPTION:Please call for an appointment at 215-672-8380 – The cost is $10.
URL:https://bwsac.org/calendar/haircuts/2027-09-27/
CATEGORIES:Events
END:VEVENT
BEGIN:VEVENT
DTSTART;TZID=America/New_York:20271025T090000
DTEND;TZID=America/New_York:20271025T114500
DTSTAMP:20260422T113104
CREATED:20231202T002028Z
LAST-MODIFIED:20231202T004156Z
UID:10005848-1824454800-1824464700@bwsac.org
SUMMARY:Haircuts
DESCRIPTION:Please call for an appointment at 215-672-8380 – The cost is $10.
URL:https://bwsac.org/calendar/haircuts/2027-10-25/
CATEGORIES:Events
END:VEVENT
BEGIN:VEVENT
DTSTART;TZID=America/New_York:20271122T090000
DTEND;TZID=America/New_York:20271122T114500
DTSTAMP:20260422T113104
CREATED:20231202T002028Z
LAST-MODIFIED:20231202T004156Z
UID:10005849-1826874000-1826883900@bwsac.org
SUMMARY:Haircuts
DESCRIPTION:Please call for an appointment at 215-672-8380 – The cost is $10.
URL:https://bwsac.org/calendar/haircuts/2027-11-22/
CATEGORIES:Events
END:VEVENT
BEGIN:VEVENT
DTSTART;TZID=America/New_York:20271227T090000
DTEND;TZID=America/New_York:20271227T114500
DTSTAMP:20260422T113104
CREATED:20231202T002028Z
LAST-MODIFIED:20231202T004156Z
UID:10005850-1829898000-1829907900@bwsac.org
SUMMARY:Haircuts
DESCRIPTION:Please call for an appointment at 215-672-8380 – The cost is $10.
URL:https://bwsac.org/calendar/haircuts/2027-12-27/
CATEGORIES:Events
END:VEVENT
BEGIN:VEVENT
DTSTART;TZID=America/New_York:20280124T090000
DTEND;TZID=America/New_York:20280124T114500
DTSTAMP:20260422T113104
CREATED:20231202T002028Z
LAST-MODIFIED:20231202T004156Z
UID:10005851-1832317200-1832327100@bwsac.org
SUMMARY:Haircuts
DESCRIPTION:Please call for an appointment at 215-672-8380 – The cost is $10.
URL:https://bwsac.org/calendar/haircuts/2028-01-24/
CATEGORIES:Events
END:VEVENT
BEGIN:VEVENT
DTSTART;TZID=America/New_York:20280228T090000
DTEND;TZID=America/New_York:20280228T114500
DTSTAMP:20260422T113104
CREATED:20231202T002028Z
LAST-MODIFIED:20231202T004156Z
UID:10005852-1835341200-1835351100@bwsac.org
SUMMARY:Haircuts
DESCRIPTION:Please call for an appointment at 215-672-8380 – The cost is $10.
URL:https://bwsac.org/calendar/haircuts/2028-02-28/
CATEGORIES:Events
END:VEVENT
BEGIN:VEVENT
DTSTART;TZID=America/New_York:20280327T090000
DTEND;TZID=America/New_York:20280327T114500
DTSTAMP:20260422T113104
CREATED:20231202T002028Z
LAST-MODIFIED:20231202T004156Z
UID:10005853-1837760400-1837770300@bwsac.org
SUMMARY:Haircuts
DESCRIPTION:Please call for an appointment at 215-672-8380 – The cost is $10.
URL:https://bwsac.org/calendar/haircuts/2028-03-27/
CATEGORIES:Events
END:VEVENT
BEGIN:VEVENT
DTSTART;TZID=America/New_York:20280424T090000
DTEND;TZID=America/New_York:20280424T114500
DTSTAMP:20260422T113104
CREATED:20231202T002028Z
LAST-MODIFIED:20231202T004156Z
UID:10005854-1840179600-1840189500@bwsac.org
SUMMARY:Haircuts
DESCRIPTION:Please call for an appointment at 215-672-8380 – The cost is $10.
URL:https://bwsac.org/calendar/haircuts/2028-04-24/
CATEGORIES:Events
END:VEVENT
BEGIN:VEVENT
DTSTART;TZID=America/New_York:20280522T090000
DTEND;TZID=America/New_York:20280522T114500
DTSTAMP:20260422T113104
CREATED:20231202T002028Z
LAST-MODIFIED:20231202T004156Z
UID:10005855-1842598800-1842608700@bwsac.org
SUMMARY:Haircuts
DESCRIPTION:Please call for an appointment at 215-672-8380 – The cost is $10.
URL:https://bwsac.org/calendar/haircuts/2028-05-22/
CATEGORIES:Events
END:VEVENT
BEGIN:VEVENT
DTSTART;TZID=America/New_York:20280626T090000
DTEND;TZID=America/New_York:20280626T114500
DTSTAMP:20260422T113104
CREATED:20231202T002028Z
LAST-MODIFIED:20231202T004156Z
UID:10005856-1845622800-1845632700@bwsac.org
SUMMARY:Haircuts
DESCRIPTION:Please call for an appointment at 215-672-8380 – The cost is $10.
URL:https://bwsac.org/calendar/haircuts/2028-06-26/
CATEGORIES:Events
END:VEVENT
BEGIN:VEVENT
DTSTART;TZID=America/New_York:20280724T090000
DTEND;TZID=America/New_York:20280724T114500
DTSTAMP:20260422T113104
CREATED:20231202T002028Z
LAST-MODIFIED:20231202T004156Z
UID:10005857-1848042000-1848051900@bwsac.org
SUMMARY:Haircuts
DESCRIPTION:Please call for an appointment at 215-672-8380 – The cost is $10.
URL:https://bwsac.org/calendar/haircuts/2028-07-24/
CATEGORIES:Events
END:VEVENT
BEGIN:VEVENT
DTSTART;TZID=America/New_York:20280828T090000
DTEND;TZID=America/New_York:20280828T114500
DTSTAMP:20260422T113104
CREATED:20231202T002028Z
LAST-MODIFIED:20231202T004156Z
UID:10005858-1851066000-1851075900@bwsac.org
SUMMARY:Haircuts
DESCRIPTION:Please call for an appointment at 215-672-8380 – The cost is $10.
URL:https://bwsac.org/calendar/haircuts/2028-08-28/
CATEGORIES:Events
END:VEVENT
BEGIN:VEVENT
DTSTART;TZID=America/New_York:20280925T090000
DTEND;TZID=America/New_York:20280925T114500
DTSTAMP:20260422T113104
CREATED:20231202T002028Z
LAST-MODIFIED:20231202T004156Z
UID:10005859-1853485200-1853495100@bwsac.org
SUMMARY:Haircuts
DESCRIPTION:Please call for an appointment at 215-672-8380 – The cost is $10.
URL:https://bwsac.org/calendar/haircuts/2028-09-25/
CATEGORIES:Events
END:VEVENT
END:VCALENDAR