BEGIN:VCALENDAR
VERSION:2.0
PRODID:-//Ben Wilson Senior Activity Center - ECPv6.15.20//NONSGML v1.0//EN
CALSCALE:GREGORIAN
METHOD:PUBLISH
X-WR-CALNAME:Ben Wilson Senior Activity Center
X-ORIGINAL-URL:https://bwsac.org
X-WR-CALDESC:Events for Ben Wilson Senior Activity Center
REFRESH-INTERVAL;VALUE=DURATION:PT1H
X-Robots-Tag:noindex
X-PUBLISHED-TTL:PT1H
BEGIN:VTIMEZONE
TZID:America/New_York
BEGIN:DAYLIGHT
TZOFFSETFROM:-0500
TZOFFSETTO:-0400
TZNAME:EDT
DTSTART:20250309T070000
END:DAYLIGHT
BEGIN:STANDARD
TZOFFSETFROM:-0400
TZOFFSETTO:-0500
TZNAME:EST
DTSTART:20251102T060000
END:STANDARD
BEGIN:DAYLIGHT
TZOFFSETFROM:-0500
TZOFFSETTO:-0400
TZNAME:EDT
DTSTART:20260308T070000
END:DAYLIGHT
BEGIN:STANDARD
TZOFFSETFROM:-0400
TZOFFSETTO:-0500
TZNAME:EST
DTSTART:20261101T060000
END:STANDARD
BEGIN:DAYLIGHT
TZOFFSETFROM:-0500
TZOFFSETTO:-0400
TZNAME:EDT
DTSTART:20270314T070000
END:DAYLIGHT
BEGIN:STANDARD
TZOFFSETFROM:-0400
TZOFFSETTO:-0500
TZNAME:EST
DTSTART:20271107T060000
END:STANDARD
END:VTIMEZONE
BEGIN:VEVENT
DTSTART;TZID=America/New_York:20260427T090000
DTEND;TZID=America/New_York:20260427T110000
DTSTAMP:20260422T074228
CREATED:20240628T152041Z
LAST-MODIFIED:20260317T195304Z
UID:10023656-1777280400-1777287600@bwsac.org
SUMMARY:Knitting and Crochet
DESCRIPTION:$1.00 per activity per day per member $2.00 per activity per day per non-member
URL:https://bwsac.org/calendar/knitting-and-crochet-3/2026-04-27/
CATEGORIES:Events
END:VEVENT
BEGIN:VEVENT
DTSTART;TZID=America/New_York:20260504T090000
DTEND;TZID=America/New_York:20260504T110000
DTSTAMP:20260422T074228
CREATED:20240628T152041Z
LAST-MODIFIED:20260317T195304Z
UID:10023657-1777885200-1777892400@bwsac.org
SUMMARY:Knitting and Crochet
DESCRIPTION:$1.00 per activity per day per member $2.00 per activity per day per non-member
URL:https://bwsac.org/calendar/knitting-and-crochet-3/2026-05-04/
CATEGORIES:Events
END:VEVENT
BEGIN:VEVENT
DTSTART;TZID=America/New_York:20260511T090000
DTEND;TZID=America/New_York:20260511T110000
DTSTAMP:20260422T074228
CREATED:20240628T152041Z
LAST-MODIFIED:20260317T195304Z
UID:10023658-1778490000-1778497200@bwsac.org
SUMMARY:Knitting and Crochet
DESCRIPTION:$1.00 per activity per day per member $2.00 per activity per day per non-member
URL:https://bwsac.org/calendar/knitting-and-crochet-3/2026-05-11/
CATEGORIES:Events
END:VEVENT
BEGIN:VEVENT
DTSTART;TZID=America/New_York:20260518T090000
DTEND;TZID=America/New_York:20260518T110000
DTSTAMP:20260422T074228
CREATED:20240628T152041Z
LAST-MODIFIED:20260317T195304Z
UID:10023659-1779094800-1779102000@bwsac.org
SUMMARY:Knitting and Crochet
DESCRIPTION:$1.00 per activity per day per member $2.00 per activity per day per non-member
URL:https://bwsac.org/calendar/knitting-and-crochet-3/2026-05-18/
CATEGORIES:Events
END:VEVENT
BEGIN:VEVENT
DTSTART;TZID=America/New_York:20260525T090000
DTEND;TZID=America/New_York:20260525T110000
DTSTAMP:20260422T074228
CREATED:20240628T152041Z
LAST-MODIFIED:20260317T195304Z
UID:10023660-1779699600-1779706800@bwsac.org
SUMMARY:Knitting and Crochet
DESCRIPTION:$1.00 per activity per day per member $2.00 per activity per day per non-member
URL:https://bwsac.org/calendar/knitting-and-crochet-3/2026-05-25/
CATEGORIES:Events
END:VEVENT
BEGIN:VEVENT
DTSTART;TZID=America/New_York:20260601T090000
DTEND;TZID=America/New_York:20260601T110000
DTSTAMP:20260422T074228
CREATED:20240628T152041Z
LAST-MODIFIED:20260317T195304Z
UID:10023661-1780304400-1780311600@bwsac.org
SUMMARY:Knitting and Crochet
DESCRIPTION:$1.00 per activity per day per member $2.00 per activity per day per non-member
URL:https://bwsac.org/calendar/knitting-and-crochet-3/2026-06-01/
CATEGORIES:Events
END:VEVENT
BEGIN:VEVENT
DTSTART;TZID=America/New_York:20260608T090000
DTEND;TZID=America/New_York:20260608T110000
DTSTAMP:20260422T074228
CREATED:20240628T152041Z
LAST-MODIFIED:20260317T195304Z
UID:10023662-1780909200-1780916400@bwsac.org
SUMMARY:Knitting and Crochet
DESCRIPTION:$1.00 per activity per day per member $2.00 per activity per day per non-member
URL:https://bwsac.org/calendar/knitting-and-crochet-3/2026-06-08/
CATEGORIES:Events
END:VEVENT
BEGIN:VEVENT
DTSTART;TZID=America/New_York:20260615T090000
DTEND;TZID=America/New_York:20260615T110000
DTSTAMP:20260422T074228
CREATED:20240628T152041Z
LAST-MODIFIED:20260317T195304Z
UID:10023663-1781514000-1781521200@bwsac.org
SUMMARY:Knitting and Crochet
DESCRIPTION:$1.00 per activity per day per member $2.00 per activity per day per non-member
URL:https://bwsac.org/calendar/knitting-and-crochet-3/2026-06-15/
CATEGORIES:Events
END:VEVENT
BEGIN:VEVENT
DTSTART;TZID=America/New_York:20260622T090000
DTEND;TZID=America/New_York:20260622T110000
DTSTAMP:20260422T074228
CREATED:20240628T152041Z
LAST-MODIFIED:20260317T195304Z
UID:10023664-1782118800-1782126000@bwsac.org
SUMMARY:Knitting and Crochet
DESCRIPTION:$1.00 per activity per day per member $2.00 per activity per day per non-member
URL:https://bwsac.org/calendar/knitting-and-crochet-3/2026-06-22/
CATEGORIES:Events
END:VEVENT
BEGIN:VEVENT
DTSTART;TZID=America/New_York:20260629T090000
DTEND;TZID=America/New_York:20260629T110000
DTSTAMP:20260422T074228
CREATED:20240628T152041Z
LAST-MODIFIED:20260317T195304Z
UID:10023665-1782723600-1782730800@bwsac.org
SUMMARY:Knitting and Crochet
DESCRIPTION:$1.00 per activity per day per member $2.00 per activity per day per non-member
URL:https://bwsac.org/calendar/knitting-and-crochet-3/2026-06-29/
CATEGORIES:Events
END:VEVENT
BEGIN:VEVENT
DTSTART;TZID=America/New_York:20260706T090000
DTEND;TZID=America/New_York:20260706T110000
DTSTAMP:20260422T074228
CREATED:20240628T152041Z
LAST-MODIFIED:20260317T195304Z
UID:10023666-1783328400-1783335600@bwsac.org
SUMMARY:Knitting and Crochet
DESCRIPTION:$1.00 per activity per day per member $2.00 per activity per day per non-member
URL:https://bwsac.org/calendar/knitting-and-crochet-3/2026-07-06/
CATEGORIES:Events
END:VEVENT
BEGIN:VEVENT
DTSTART;TZID=America/New_York:20260713T090000
DTEND;TZID=America/New_York:20260713T110000
DTSTAMP:20260422T074228
CREATED:20240628T152041Z
LAST-MODIFIED:20260317T195304Z
UID:10023667-1783933200-1783940400@bwsac.org
SUMMARY:Knitting and Crochet
DESCRIPTION:$1.00 per activity per day per member $2.00 per activity per day per non-member
URL:https://bwsac.org/calendar/knitting-and-crochet-3/2026-07-13/
CATEGORIES:Events
END:VEVENT
BEGIN:VEVENT
DTSTART;TZID=America/New_York:20260720T090000
DTEND;TZID=America/New_York:20260720T110000
DTSTAMP:20260422T074228
CREATED:20240628T152041Z
LAST-MODIFIED:20260317T195304Z
UID:10023668-1784538000-1784545200@bwsac.org
SUMMARY:Knitting and Crochet
DESCRIPTION:$1.00 per activity per day per member $2.00 per activity per day per non-member
URL:https://bwsac.org/calendar/knitting-and-crochet-3/2026-07-20/
CATEGORIES:Events
END:VEVENT
BEGIN:VEVENT
DTSTART;TZID=America/New_York:20260727T090000
DTEND;TZID=America/New_York:20260727T110000
DTSTAMP:20260422T074228
CREATED:20240628T152041Z
LAST-MODIFIED:20260317T195304Z
UID:10023669-1785142800-1785150000@bwsac.org
SUMMARY:Knitting and Crochet
DESCRIPTION:$1.00 per activity per day per member $2.00 per activity per day per non-member
URL:https://bwsac.org/calendar/knitting-and-crochet-3/2026-07-27/
CATEGORIES:Events
END:VEVENT
BEGIN:VEVENT
DTSTART;TZID=America/New_York:20260803T090000
DTEND;TZID=America/New_York:20260803T110000
DTSTAMP:20260422T074228
CREATED:20240628T152041Z
LAST-MODIFIED:20260317T195304Z
UID:10023670-1785747600-1785754800@bwsac.org
SUMMARY:Knitting and Crochet
DESCRIPTION:$1.00 per activity per day per member $2.00 per activity per day per non-member
URL:https://bwsac.org/calendar/knitting-and-crochet-3/2026-08-03/
CATEGORIES:Events
END:VEVENT
BEGIN:VEVENT
DTSTART;TZID=America/New_York:20260810T090000
DTEND;TZID=America/New_York:20260810T110000
DTSTAMP:20260422T074228
CREATED:20240628T152041Z
LAST-MODIFIED:20260317T195304Z
UID:10023671-1786352400-1786359600@bwsac.org
SUMMARY:Knitting and Crochet
DESCRIPTION:$1.00 per activity per day per member $2.00 per activity per day per non-member
URL:https://bwsac.org/calendar/knitting-and-crochet-3/2026-08-10/
CATEGORIES:Events
END:VEVENT
BEGIN:VEVENT
DTSTART;TZID=America/New_York:20260817T090000
DTEND;TZID=America/New_York:20260817T110000
DTSTAMP:20260422T074228
CREATED:20240628T152041Z
LAST-MODIFIED:20260317T195304Z
UID:10023672-1786957200-1786964400@bwsac.org
SUMMARY:Knitting and Crochet
DESCRIPTION:$1.00 per activity per day per member $2.00 per activity per day per non-member
URL:https://bwsac.org/calendar/knitting-and-crochet-3/2026-08-17/
CATEGORIES:Events
END:VEVENT
BEGIN:VEVENT
DTSTART;TZID=America/New_York:20260824T090000
DTEND;TZID=America/New_York:20260824T110000
DTSTAMP:20260422T074228
CREATED:20240628T152041Z
LAST-MODIFIED:20260317T195304Z
UID:10023673-1787562000-1787569200@bwsac.org
SUMMARY:Knitting and Crochet
DESCRIPTION:$1.00 per activity per day per member $2.00 per activity per day per non-member
URL:https://bwsac.org/calendar/knitting-and-crochet-3/2026-08-24/
CATEGORIES:Events
END:VEVENT
BEGIN:VEVENT
DTSTART;TZID=America/New_York:20260831T090000
DTEND;TZID=America/New_York:20260831T110000
DTSTAMP:20260422T074228
CREATED:20240628T152041Z
LAST-MODIFIED:20260317T195304Z
UID:10023674-1788166800-1788174000@bwsac.org
SUMMARY:Knitting and Crochet
DESCRIPTION:$1.00 per activity per day per member $2.00 per activity per day per non-member
URL:https://bwsac.org/calendar/knitting-and-crochet-3/2026-08-31/
CATEGORIES:Events
END:VEVENT
BEGIN:VEVENT
DTSTART;TZID=America/New_York:20260907T090000
DTEND;TZID=America/New_York:20260907T110000
DTSTAMP:20260422T074228
CREATED:20240628T152041Z
LAST-MODIFIED:20260317T195304Z
UID:10023675-1788771600-1788778800@bwsac.org
SUMMARY:Knitting and Crochet
DESCRIPTION:$1.00 per activity per day per member $2.00 per activity per day per non-member
URL:https://bwsac.org/calendar/knitting-and-crochet-3/2026-09-07/
CATEGORIES:Events
END:VEVENT
BEGIN:VEVENT
DTSTART;TZID=America/New_York:20260914T090000
DTEND;TZID=America/New_York:20260914T110000
DTSTAMP:20260422T074228
CREATED:20240628T152041Z
LAST-MODIFIED:20260317T195304Z
UID:10023676-1789376400-1789383600@bwsac.org
SUMMARY:Knitting and Crochet
DESCRIPTION:$1.00 per activity per day per member $2.00 per activity per day per non-member
URL:https://bwsac.org/calendar/knitting-and-crochet-3/2026-09-14/
CATEGORIES:Events
END:VEVENT
BEGIN:VEVENT
DTSTART;TZID=America/New_York:20260921T090000
DTEND;TZID=America/New_York:20260921T110000
DTSTAMP:20260422T074228
CREATED:20240628T152041Z
LAST-MODIFIED:20260317T195304Z
UID:10023677-1789981200-1789988400@bwsac.org
SUMMARY:Knitting and Crochet
DESCRIPTION:$1.00 per activity per day per member $2.00 per activity per day per non-member
URL:https://bwsac.org/calendar/knitting-and-crochet-3/2026-09-21/
CATEGORIES:Events
END:VEVENT
BEGIN:VEVENT
DTSTART;TZID=America/New_York:20260928T090000
DTEND;TZID=America/New_York:20260928T110000
DTSTAMP:20260422T074228
CREATED:20240628T152041Z
LAST-MODIFIED:20260317T195304Z
UID:10023678-1790586000-1790593200@bwsac.org
SUMMARY:Knitting and Crochet
DESCRIPTION:$1.00 per activity per day per member $2.00 per activity per day per non-member
URL:https://bwsac.org/calendar/knitting-and-crochet-3/2026-09-28/
CATEGORIES:Events
END:VEVENT
BEGIN:VEVENT
DTSTART;TZID=America/New_York:20261005T090000
DTEND;TZID=America/New_York:20261005T110000
DTSTAMP:20260422T074228
CREATED:20240628T152041Z
LAST-MODIFIED:20260317T195304Z
UID:10023679-1791190800-1791198000@bwsac.org
SUMMARY:Knitting and Crochet
DESCRIPTION:$1.00 per activity per day per member $2.00 per activity per day per non-member
URL:https://bwsac.org/calendar/knitting-and-crochet-3/2026-10-05/
CATEGORIES:Events
END:VEVENT
BEGIN:VEVENT
DTSTART;TZID=America/New_York:20261012T090000
DTEND;TZID=America/New_York:20261012T110000
DTSTAMP:20260422T074228
CREATED:20240628T152041Z
LAST-MODIFIED:20260317T195304Z
UID:10023680-1791795600-1791802800@bwsac.org
SUMMARY:Knitting and Crochet
DESCRIPTION:$1.00 per activity per day per member $2.00 per activity per day per non-member
URL:https://bwsac.org/calendar/knitting-and-crochet-3/2026-10-12/
CATEGORIES:Events
END:VEVENT
BEGIN:VEVENT
DTSTART;TZID=America/New_York:20261019T090000
DTEND;TZID=America/New_York:20261019T110000
DTSTAMP:20260422T074228
CREATED:20240628T152041Z
LAST-MODIFIED:20260317T195304Z
UID:10023681-1792400400-1792407600@bwsac.org
SUMMARY:Knitting and Crochet
DESCRIPTION:$1.00 per activity per day per member $2.00 per activity per day per non-member
URL:https://bwsac.org/calendar/knitting-and-crochet-3/2026-10-19/
CATEGORIES:Events
END:VEVENT
BEGIN:VEVENT
DTSTART;TZID=America/New_York:20261026T090000
DTEND;TZID=America/New_York:20261026T110000
DTSTAMP:20260422T074228
CREATED:20240628T152041Z
LAST-MODIFIED:20260317T195304Z
UID:10023682-1793005200-1793012400@bwsac.org
SUMMARY:Knitting and Crochet
DESCRIPTION:$1.00 per activity per day per member $2.00 per activity per day per non-member
URL:https://bwsac.org/calendar/knitting-and-crochet-3/2026-10-26/
CATEGORIES:Events
END:VEVENT
BEGIN:VEVENT
DTSTART;TZID=America/New_York:20261102T090000
DTEND;TZID=America/New_York:20261102T110000
DTSTAMP:20260422T074228
CREATED:20240628T152041Z
LAST-MODIFIED:20260317T195304Z
UID:10023683-1793610000-1793617200@bwsac.org
SUMMARY:Knitting and Crochet
DESCRIPTION:$1.00 per activity per day per member $2.00 per activity per day per non-member
URL:https://bwsac.org/calendar/knitting-and-crochet-3/2026-11-02/
CATEGORIES:Events
END:VEVENT
BEGIN:VEVENT
DTSTART;TZID=America/New_York:20261109T090000
DTEND;TZID=America/New_York:20261109T110000
DTSTAMP:20260422T074228
CREATED:20240628T152041Z
LAST-MODIFIED:20260317T195304Z
UID:10023684-1794214800-1794222000@bwsac.org
SUMMARY:Knitting and Crochet
DESCRIPTION:$1.00 per activity per day per member $2.00 per activity per day per non-member
URL:https://bwsac.org/calendar/knitting-and-crochet-3/2026-11-09/
CATEGORIES:Events
END:VEVENT
BEGIN:VEVENT
DTSTART;TZID=America/New_York:20261116T090000
DTEND;TZID=America/New_York:20261116T110000
DTSTAMP:20260422T074228
CREATED:20240628T152041Z
LAST-MODIFIED:20260317T195304Z
UID:10023685-1794819600-1794826800@bwsac.org
SUMMARY:Knitting and Crochet
DESCRIPTION:$1.00 per activity per day per member $2.00 per activity per day per non-member
URL:https://bwsac.org/calendar/knitting-and-crochet-3/2026-11-16/
CATEGORIES:Events
END:VEVENT
END:VCALENDAR