BEGIN:VCALENDAR
VERSION:2.0
PRODID:-//Ben Wilson Senior Activity Center - ECPv6.15.20//NONSGML v1.0//EN
CALSCALE:GREGORIAN
METHOD:PUBLISH
X-WR-CALNAME:Ben Wilson Senior Activity Center
X-ORIGINAL-URL:https://bwsac.org
X-WR-CALDESC:Events for Ben Wilson Senior Activity Center
REFRESH-INTERVAL;VALUE=DURATION:PT1H
X-Robots-Tag:noindex
X-PUBLISHED-TTL:PT1H
BEGIN:VTIMEZONE
TZID:America/New_York
BEGIN:DAYLIGHT
TZOFFSETFROM:-0500
TZOFFSETTO:-0400
TZNAME:EDT
DTSTART:20250309T070000
END:DAYLIGHT
BEGIN:STANDARD
TZOFFSETFROM:-0400
TZOFFSETTO:-0500
TZNAME:EST
DTSTART:20251102T060000
END:STANDARD
BEGIN:DAYLIGHT
TZOFFSETFROM:-0500
TZOFFSETTO:-0400
TZNAME:EDT
DTSTART:20260308T070000
END:DAYLIGHT
BEGIN:STANDARD
TZOFFSETFROM:-0400
TZOFFSETTO:-0500
TZNAME:EST
DTSTART:20261101T060000
END:STANDARD
BEGIN:DAYLIGHT
TZOFFSETFROM:-0500
TZOFFSETTO:-0400
TZNAME:EDT
DTSTART:20270314T070000
END:DAYLIGHT
BEGIN:STANDARD
TZOFFSETFROM:-0400
TZOFFSETTO:-0500
TZNAME:EST
DTSTART:20271107T060000
END:STANDARD
BEGIN:DAYLIGHT
TZOFFSETFROM:-0500
TZOFFSETTO:-0400
TZNAME:EDT
DTSTART:20280312T070000
END:DAYLIGHT
BEGIN:STANDARD
TZOFFSETFROM:-0400
TZOFFSETTO:-0500
TZNAME:EST
DTSTART:20281105T060000
END:STANDARD
BEGIN:DAYLIGHT
TZOFFSETFROM:-0500
TZOFFSETTO:-0400
TZNAME:EDT
DTSTART:20290311T070000
END:DAYLIGHT
BEGIN:STANDARD
TZOFFSETFROM:-0400
TZOFFSETTO:-0500
TZNAME:EST
DTSTART:20291104T060000
END:STANDARD
END:VTIMEZONE
BEGIN:VEVENT
DTSTART;TZID=America/New_York:20260511T093000
DTEND;TZID=America/New_York:20260511T103000
DTSTAMP:20260422T075748
CREATED:20240429T204019Z
LAST-MODIFIED:20260317T194325Z
UID:10023568-1778491800-1778495400@bwsac.org
SUMMARY:Mini-Craft
DESCRIPTION:
URL:https://bwsac.org/calendar/mini-craft/2026-05-11/
END:VEVENT
BEGIN:VEVENT
DTSTART;TZID=America/New_York:20260608T093000
DTEND;TZID=America/New_York:20260608T103000
DTSTAMP:20260422T075748
CREATED:20240429T204019Z
LAST-MODIFIED:20260317T194325Z
UID:10023569-1780911000-1780914600@bwsac.org
SUMMARY:Mini-Craft
DESCRIPTION:
URL:https://bwsac.org/calendar/mini-craft/2026-06-08/
END:VEVENT
BEGIN:VEVENT
DTSTART;TZID=America/New_York:20260713T093000
DTEND;TZID=America/New_York:20260713T103000
DTSTAMP:20260422T075748
CREATED:20240429T204019Z
LAST-MODIFIED:20260317T194325Z
UID:10023570-1783935000-1783938600@bwsac.org
SUMMARY:Mini-Craft
DESCRIPTION:
URL:https://bwsac.org/calendar/mini-craft/2026-07-13/
END:VEVENT
BEGIN:VEVENT
DTSTART;TZID=America/New_York:20260810T093000
DTEND;TZID=America/New_York:20260810T103000
DTSTAMP:20260422T075748
CREATED:20240429T204019Z
LAST-MODIFIED:20260317T194325Z
UID:10023571-1786354200-1786357800@bwsac.org
SUMMARY:Mini-Craft
DESCRIPTION:
URL:https://bwsac.org/calendar/mini-craft/2026-08-10/
END:VEVENT
BEGIN:VEVENT
DTSTART;TZID=America/New_York:20260914T093000
DTEND;TZID=America/New_York:20260914T103000
DTSTAMP:20260422T075748
CREATED:20240429T204019Z
LAST-MODIFIED:20260317T194325Z
UID:10023572-1789378200-1789381800@bwsac.org
SUMMARY:Mini-Craft
DESCRIPTION:
URL:https://bwsac.org/calendar/mini-craft/2026-09-14/
END:VEVENT
BEGIN:VEVENT
DTSTART;TZID=America/New_York:20261012T093000
DTEND;TZID=America/New_York:20261012T103000
DTSTAMP:20260422T075748
CREATED:20240429T204019Z
LAST-MODIFIED:20260317T194325Z
UID:10023573-1791797400-1791801000@bwsac.org
SUMMARY:Mini-Craft
DESCRIPTION:
URL:https://bwsac.org/calendar/mini-craft/2026-10-12/
END:VEVENT
BEGIN:VEVENT
DTSTART;TZID=America/New_York:20261109T093000
DTEND;TZID=America/New_York:20261109T103000
DTSTAMP:20260422T075748
CREATED:20240429T204019Z
LAST-MODIFIED:20260317T194325Z
UID:10023574-1794216600-1794220200@bwsac.org
SUMMARY:Mini-Craft
DESCRIPTION:
URL:https://bwsac.org/calendar/mini-craft/2026-11-09/
END:VEVENT
BEGIN:VEVENT
DTSTART;TZID=America/New_York:20261214T093000
DTEND;TZID=America/New_York:20261214T103000
DTSTAMP:20260422T075748
CREATED:20240429T204019Z
LAST-MODIFIED:20260317T194325Z
UID:10023575-1797240600-1797244200@bwsac.org
SUMMARY:Mini-Craft
DESCRIPTION:
URL:https://bwsac.org/calendar/mini-craft/2026-12-14/
END:VEVENT
BEGIN:VEVENT
DTSTART;TZID=America/New_York:20270111T093000
DTEND;TZID=America/New_York:20270111T103000
DTSTAMP:20260422T075748
CREATED:20240429T204019Z
LAST-MODIFIED:20260317T194325Z
UID:10023576-1799659800-1799663400@bwsac.org
SUMMARY:Mini-Craft
DESCRIPTION:
URL:https://bwsac.org/calendar/mini-craft/2027-01-11/
END:VEVENT
BEGIN:VEVENT
DTSTART;TZID=America/New_York:20270208T093000
DTEND;TZID=America/New_York:20270208T103000
DTSTAMP:20260422T075748
CREATED:20240429T204019Z
LAST-MODIFIED:20260317T194325Z
UID:10023577-1802079000-1802082600@bwsac.org
SUMMARY:Mini-Craft
DESCRIPTION:
URL:https://bwsac.org/calendar/mini-craft/2027-02-08/
END:VEVENT
BEGIN:VEVENT
DTSTART;TZID=America/New_York:20270308T093000
DTEND;TZID=America/New_York:20270308T103000
DTSTAMP:20260422T075748
CREATED:20240429T204019Z
LAST-MODIFIED:20260317T194325Z
UID:10023578-1804498200-1804501800@bwsac.org
SUMMARY:Mini-Craft
DESCRIPTION:
URL:https://bwsac.org/calendar/mini-craft/2027-03-08/
END:VEVENT
BEGIN:VEVENT
DTSTART;TZID=America/New_York:20270412T093000
DTEND;TZID=America/New_York:20270412T103000
DTSTAMP:20260422T075748
CREATED:20240429T204019Z
LAST-MODIFIED:20260317T194325Z
UID:10023579-1807522200-1807525800@bwsac.org
SUMMARY:Mini-Craft
DESCRIPTION:
URL:https://bwsac.org/calendar/mini-craft/2027-04-12/
END:VEVENT
BEGIN:VEVENT
DTSTART;TZID=America/New_York:20270510T093000
DTEND;TZID=America/New_York:20270510T103000
DTSTAMP:20260422T075748
CREATED:20240429T204019Z
LAST-MODIFIED:20260317T194325Z
UID:10023580-1809941400-1809945000@bwsac.org
SUMMARY:Mini-Craft
DESCRIPTION:
URL:https://bwsac.org/calendar/mini-craft/2027-05-10/
END:VEVENT
BEGIN:VEVENT
DTSTART;TZID=America/New_York:20270614T093000
DTEND;TZID=America/New_York:20270614T103000
DTSTAMP:20260422T075748
CREATED:20240429T204019Z
LAST-MODIFIED:20260317T194325Z
UID:10023581-1812965400-1812969000@bwsac.org
SUMMARY:Mini-Craft
DESCRIPTION:
URL:https://bwsac.org/calendar/mini-craft/2027-06-14/
END:VEVENT
BEGIN:VEVENT
DTSTART;TZID=America/New_York:20270712T093000
DTEND;TZID=America/New_York:20270712T103000
DTSTAMP:20260422T075748
CREATED:20240429T204019Z
LAST-MODIFIED:20260317T194325Z
UID:10023582-1815384600-1815388200@bwsac.org
SUMMARY:Mini-Craft
DESCRIPTION:
URL:https://bwsac.org/calendar/mini-craft/2027-07-12/
END:VEVENT
BEGIN:VEVENT
DTSTART;TZID=America/New_York:20270809T093000
DTEND;TZID=America/New_York:20270809T103000
DTSTAMP:20260422T075748
CREATED:20240429T204019Z
LAST-MODIFIED:20260317T194325Z
UID:10023583-1817803800-1817807400@bwsac.org
SUMMARY:Mini-Craft
DESCRIPTION:
URL:https://bwsac.org/calendar/mini-craft/2027-08-09/
END:VEVENT
BEGIN:VEVENT
DTSTART;TZID=America/New_York:20270913T093000
DTEND;TZID=America/New_York:20270913T103000
DTSTAMP:20260422T075748
CREATED:20240429T204019Z
LAST-MODIFIED:20260317T194325Z
UID:10023584-1820827800-1820831400@bwsac.org
SUMMARY:Mini-Craft
DESCRIPTION:
URL:https://bwsac.org/calendar/mini-craft/2027-09-13/
END:VEVENT
BEGIN:VEVENT
DTSTART;TZID=America/New_York:20271011T093000
DTEND;TZID=America/New_York:20271011T103000
DTSTAMP:20260422T075748
CREATED:20240429T204019Z
LAST-MODIFIED:20260317T194325Z
UID:10023585-1823247000-1823250600@bwsac.org
SUMMARY:Mini-Craft
DESCRIPTION:
URL:https://bwsac.org/calendar/mini-craft/2027-10-11/
END:VEVENT
BEGIN:VEVENT
DTSTART;TZID=America/New_York:20271108T093000
DTEND;TZID=America/New_York:20271108T103000
DTSTAMP:20260422T075748
CREATED:20240429T204019Z
LAST-MODIFIED:20260317T194325Z
UID:10023586-1825666200-1825669800@bwsac.org
SUMMARY:Mini-Craft
DESCRIPTION:
URL:https://bwsac.org/calendar/mini-craft/2027-11-08/
END:VEVENT
BEGIN:VEVENT
DTSTART;TZID=America/New_York:20271213T093000
DTEND;TZID=America/New_York:20271213T103000
DTSTAMP:20260422T075748
CREATED:20240429T204019Z
LAST-MODIFIED:20260317T194325Z
UID:10023587-1828690200-1828693800@bwsac.org
SUMMARY:Mini-Craft
DESCRIPTION:
URL:https://bwsac.org/calendar/mini-craft/2027-12-13/
END:VEVENT
BEGIN:VEVENT
DTSTART;TZID=America/New_York:20280110T093000
DTEND;TZID=America/New_York:20280110T103000
DTSTAMP:20260422T075748
CREATED:20240429T204019Z
LAST-MODIFIED:20260317T194325Z
UID:10023588-1831109400-1831113000@bwsac.org
SUMMARY:Mini-Craft
DESCRIPTION:
URL:https://bwsac.org/calendar/mini-craft/2028-01-10/
END:VEVENT
BEGIN:VEVENT
DTSTART;TZID=America/New_York:20280214T093000
DTEND;TZID=America/New_York:20280214T103000
DTSTAMP:20260422T075748
CREATED:20240429T204019Z
LAST-MODIFIED:20260317T194325Z
UID:10023589-1834133400-1834137000@bwsac.org
SUMMARY:Mini-Craft
DESCRIPTION:
URL:https://bwsac.org/calendar/mini-craft/2028-02-14/
END:VEVENT
BEGIN:VEVENT
DTSTART;TZID=America/New_York:20280313T093000
DTEND;TZID=America/New_York:20280313T103000
DTSTAMP:20260422T075748
CREATED:20240429T204019Z
LAST-MODIFIED:20260317T194325Z
UID:10023590-1836552600-1836556200@bwsac.org
SUMMARY:Mini-Craft
DESCRIPTION:
URL:https://bwsac.org/calendar/mini-craft/2028-03-13/
END:VEVENT
BEGIN:VEVENT
DTSTART;TZID=America/New_York:20280410T093000
DTEND;TZID=America/New_York:20280410T103000
DTSTAMP:20260422T075748
CREATED:20240429T204019Z
LAST-MODIFIED:20260317T194325Z
UID:10023591-1838971800-1838975400@bwsac.org
SUMMARY:Mini-Craft
DESCRIPTION:
URL:https://bwsac.org/calendar/mini-craft/2028-04-10/
END:VEVENT
BEGIN:VEVENT
DTSTART;TZID=America/New_York:20280508T093000
DTEND;TZID=America/New_York:20280508T103000
DTSTAMP:20260422T075748
CREATED:20240429T204019Z
LAST-MODIFIED:20260317T194325Z
UID:10023592-1841391000-1841394600@bwsac.org
SUMMARY:Mini-Craft
DESCRIPTION:
URL:https://bwsac.org/calendar/mini-craft/2028-05-08/
END:VEVENT
BEGIN:VEVENT
DTSTART;TZID=America/New_York:20280612T093000
DTEND;TZID=America/New_York:20280612T103000
DTSTAMP:20260422T075748
CREATED:20240429T204019Z
LAST-MODIFIED:20260317T194325Z
UID:10023593-1844415000-1844418600@bwsac.org
SUMMARY:Mini-Craft
DESCRIPTION:
URL:https://bwsac.org/calendar/mini-craft/2028-06-12/
END:VEVENT
BEGIN:VEVENT
DTSTART;TZID=America/New_York:20280710T093000
DTEND;TZID=America/New_York:20280710T103000
DTSTAMP:20260422T075748
CREATED:20240429T204019Z
LAST-MODIFIED:20260317T194325Z
UID:10023594-1846834200-1846837800@bwsac.org
SUMMARY:Mini-Craft
DESCRIPTION:
URL:https://bwsac.org/calendar/mini-craft/2028-07-10/
END:VEVENT
BEGIN:VEVENT
DTSTART;TZID=America/New_York:20280814T093000
DTEND;TZID=America/New_York:20280814T103000
DTSTAMP:20260422T075748
CREATED:20240429T204019Z
LAST-MODIFIED:20260317T194325Z
UID:10023595-1849858200-1849861800@bwsac.org
SUMMARY:Mini-Craft
DESCRIPTION:
URL:https://bwsac.org/calendar/mini-craft/2028-08-14/
END:VEVENT
BEGIN:VEVENT
DTSTART;TZID=America/New_York:20280911T093000
DTEND;TZID=America/New_York:20280911T103000
DTSTAMP:20260422T075748
CREATED:20240429T204019Z
LAST-MODIFIED:20260317T194325Z
UID:10023596-1852277400-1852281000@bwsac.org
SUMMARY:Mini-Craft
DESCRIPTION:
URL:https://bwsac.org/calendar/mini-craft/2028-09-11/
END:VEVENT
BEGIN:VEVENT
DTSTART;TZID=America/New_York:20281009T093000
DTEND;TZID=America/New_York:20281009T103000
DTSTAMP:20260422T075748
CREATED:20240429T204019Z
LAST-MODIFIED:20260317T194325Z
UID:10023597-1854696600-1854700200@bwsac.org
SUMMARY:Mini-Craft
DESCRIPTION:
URL:https://bwsac.org/calendar/mini-craft/2028-10-09/
END:VEVENT
END:VCALENDAR