BEGIN:VCALENDAR
VERSION:2.0
PRODID:-//Ben Wilson Senior Activity Center - ECPv6.15.20//NONSGML v1.0//EN
CALSCALE:GREGORIAN
METHOD:PUBLISH
X-WR-CALNAME:Ben Wilson Senior Activity Center
X-ORIGINAL-URL:https://bwsac.org
X-WR-CALDESC:Events for Ben Wilson Senior Activity Center
REFRESH-INTERVAL;VALUE=DURATION:PT1H
X-Robots-Tag:noindex
X-PUBLISHED-TTL:PT1H
BEGIN:VTIMEZONE
TZID:America/New_York
BEGIN:DAYLIGHT
TZOFFSETFROM:-0500
TZOFFSETTO:-0400
TZNAME:EDT
DTSTART:20250309T070000
END:DAYLIGHT
BEGIN:STANDARD
TZOFFSETFROM:-0400
TZOFFSETTO:-0500
TZNAME:EST
DTSTART:20251102T060000
END:STANDARD
BEGIN:DAYLIGHT
TZOFFSETFROM:-0500
TZOFFSETTO:-0400
TZNAME:EDT
DTSTART:20260308T070000
END:DAYLIGHT
BEGIN:STANDARD
TZOFFSETFROM:-0400
TZOFFSETTO:-0500
TZNAME:EST
DTSTART:20261101T060000
END:STANDARD
BEGIN:DAYLIGHT
TZOFFSETFROM:-0500
TZOFFSETTO:-0400
TZNAME:EDT
DTSTART:20270314T070000
END:DAYLIGHT
BEGIN:STANDARD
TZOFFSETFROM:-0400
TZOFFSETTO:-0500
TZNAME:EST
DTSTART:20271107T060000
END:STANDARD
BEGIN:DAYLIGHT
TZOFFSETFROM:-0500
TZOFFSETTO:-0400
TZNAME:EDT
DTSTART:20280312T070000
END:DAYLIGHT
BEGIN:STANDARD
TZOFFSETFROM:-0400
TZOFFSETTO:-0500
TZNAME:EST
DTSTART:20281105T060000
END:STANDARD
BEGIN:DAYLIGHT
TZOFFSETFROM:-0500
TZOFFSETTO:-0400
TZNAME:EDT
DTSTART:20290311T070000
END:DAYLIGHT
BEGIN:STANDARD
TZOFFSETFROM:-0400
TZOFFSETTO:-0500
TZNAME:EST
DTSTART:20291104T060000
END:STANDARD
END:VTIMEZONE
BEGIN:VEVENT
DTSTART;TZID=America/New_York:20260429T100000
DTEND;TZID=America/New_York:20260429T120000
DTSTAMP:20260422T062418
CREATED:20241231T182350Z
LAST-MODIFIED:20241231T182418Z
UID:10013852-1777456800-1777464000@bwsac.org
SUMMARY:Staff from State Rep. Brian Munroe
DESCRIPTION:Brian Munroe’s office staff will be coming on the last Wednesday of each month to assist you with Septa pass sign-up\, energy assistance\, reduced auto registration\, prescription assistance\, property tax/rent rebate\, etc.
URL:https://bwsac.org/calendar/staff-from-state-rep-brian-munroe/2026-04-29/
CATEGORIES:Events
END:VEVENT
BEGIN:VEVENT
DTSTART;TZID=America/New_York:20260527T100000
DTEND;TZID=America/New_York:20260527T120000
DTSTAMP:20260422T062418
CREATED:20241231T182350Z
LAST-MODIFIED:20241231T182418Z
UID:10013853-1779876000-1779883200@bwsac.org
SUMMARY:Staff from State Rep. Brian Munroe
DESCRIPTION:Brian Munroe’s office staff will be coming on the last Wednesday of each month to assist you with Septa pass sign-up\, energy assistance\, reduced auto registration\, prescription assistance\, property tax/rent rebate\, etc.
URL:https://bwsac.org/calendar/staff-from-state-rep-brian-munroe/2026-05-27/
CATEGORIES:Events
END:VEVENT
BEGIN:VEVENT
DTSTART;TZID=America/New_York:20260624T100000
DTEND;TZID=America/New_York:20260624T120000
DTSTAMP:20260422T062418
CREATED:20241231T182350Z
LAST-MODIFIED:20241231T182418Z
UID:10013854-1782295200-1782302400@bwsac.org
SUMMARY:Staff from State Rep. Brian Munroe
DESCRIPTION:Brian Munroe’s office staff will be coming on the last Wednesday of each month to assist you with Septa pass sign-up\, energy assistance\, reduced auto registration\, prescription assistance\, property tax/rent rebate\, etc.
URL:https://bwsac.org/calendar/staff-from-state-rep-brian-munroe/2026-06-24/
CATEGORIES:Events
END:VEVENT
BEGIN:VEVENT
DTSTART;TZID=America/New_York:20260729T100000
DTEND;TZID=America/New_York:20260729T120000
DTSTAMP:20260422T062418
CREATED:20241231T182350Z
LAST-MODIFIED:20241231T182418Z
UID:10013855-1785319200-1785326400@bwsac.org
SUMMARY:Staff from State Rep. Brian Munroe
DESCRIPTION:Brian Munroe’s office staff will be coming on the last Wednesday of each month to assist you with Septa pass sign-up\, energy assistance\, reduced auto registration\, prescription assistance\, property tax/rent rebate\, etc.
URL:https://bwsac.org/calendar/staff-from-state-rep-brian-munroe/2026-07-29/
CATEGORIES:Events
END:VEVENT
BEGIN:VEVENT
DTSTART;TZID=America/New_York:20260826T100000
DTEND;TZID=America/New_York:20260826T120000
DTSTAMP:20260422T062418
CREATED:20241231T182350Z
LAST-MODIFIED:20241231T182418Z
UID:10013856-1787738400-1787745600@bwsac.org
SUMMARY:Staff from State Rep. Brian Munroe
DESCRIPTION:Brian Munroe’s office staff will be coming on the last Wednesday of each month to assist you with Septa pass sign-up\, energy assistance\, reduced auto registration\, prescription assistance\, property tax/rent rebate\, etc.
URL:https://bwsac.org/calendar/staff-from-state-rep-brian-munroe/2026-08-26/
CATEGORIES:Events
END:VEVENT
BEGIN:VEVENT
DTSTART;TZID=America/New_York:20260930T100000
DTEND;TZID=America/New_York:20260930T120000
DTSTAMP:20260422T062418
CREATED:20241231T182350Z
LAST-MODIFIED:20241231T182418Z
UID:10013857-1790762400-1790769600@bwsac.org
SUMMARY:Staff from State Rep. Brian Munroe
DESCRIPTION:Brian Munroe’s office staff will be coming on the last Wednesday of each month to assist you with Septa pass sign-up\, energy assistance\, reduced auto registration\, prescription assistance\, property tax/rent rebate\, etc.
URL:https://bwsac.org/calendar/staff-from-state-rep-brian-munroe/2026-09-30/
CATEGORIES:Events
END:VEVENT
BEGIN:VEVENT
DTSTART;TZID=America/New_York:20261028T100000
DTEND;TZID=America/New_York:20261028T120000
DTSTAMP:20260422T062418
CREATED:20241231T182350Z
LAST-MODIFIED:20241231T182418Z
UID:10013858-1793181600-1793188800@bwsac.org
SUMMARY:Staff from State Rep. Brian Munroe
DESCRIPTION:Brian Munroe’s office staff will be coming on the last Wednesday of each month to assist you with Septa pass sign-up\, energy assistance\, reduced auto registration\, prescription assistance\, property tax/rent rebate\, etc.
URL:https://bwsac.org/calendar/staff-from-state-rep-brian-munroe/2026-10-28/
CATEGORIES:Events
END:VEVENT
BEGIN:VEVENT
DTSTART;TZID=America/New_York:20261125T100000
DTEND;TZID=America/New_York:20261125T120000
DTSTAMP:20260422T062418
CREATED:20241231T182350Z
LAST-MODIFIED:20241231T182418Z
UID:10013859-1795600800-1795608000@bwsac.org
SUMMARY:Staff from State Rep. Brian Munroe
DESCRIPTION:Brian Munroe’s office staff will be coming on the last Wednesday of each month to assist you with Septa pass sign-up\, energy assistance\, reduced auto registration\, prescription assistance\, property tax/rent rebate\, etc.
URL:https://bwsac.org/calendar/staff-from-state-rep-brian-munroe/2026-11-25/
CATEGORIES:Events
END:VEVENT
BEGIN:VEVENT
DTSTART;TZID=America/New_York:20261230T100000
DTEND;TZID=America/New_York:20261230T120000
DTSTAMP:20260422T062418
CREATED:20241231T182350Z
LAST-MODIFIED:20241231T182418Z
UID:10013860-1798624800-1798632000@bwsac.org
SUMMARY:Staff from State Rep. Brian Munroe
DESCRIPTION:Brian Munroe’s office staff will be coming on the last Wednesday of each month to assist you with Septa pass sign-up\, energy assistance\, reduced auto registration\, prescription assistance\, property tax/rent rebate\, etc.
URL:https://bwsac.org/calendar/staff-from-state-rep-brian-munroe/2026-12-30/
CATEGORIES:Events
END:VEVENT
BEGIN:VEVENT
DTSTART;TZID=America/New_York:20270127T100000
DTEND;TZID=America/New_York:20270127T120000
DTSTAMP:20260422T062418
CREATED:20241231T182350Z
LAST-MODIFIED:20241231T182418Z
UID:10013861-1801044000-1801051200@bwsac.org
SUMMARY:Staff from State Rep. Brian Munroe
DESCRIPTION:Brian Munroe’s office staff will be coming on the last Wednesday of each month to assist you with Septa pass sign-up\, energy assistance\, reduced auto registration\, prescription assistance\, property tax/rent rebate\, etc.
URL:https://bwsac.org/calendar/staff-from-state-rep-brian-munroe/2027-01-27/
CATEGORIES:Events
END:VEVENT
BEGIN:VEVENT
DTSTART;TZID=America/New_York:20270224T100000
DTEND;TZID=America/New_York:20270224T120000
DTSTAMP:20260422T062418
CREATED:20241231T182350Z
LAST-MODIFIED:20241231T182418Z
UID:10013862-1803463200-1803470400@bwsac.org
SUMMARY:Staff from State Rep. Brian Munroe
DESCRIPTION:Brian Munroe’s office staff will be coming on the last Wednesday of each month to assist you with Septa pass sign-up\, energy assistance\, reduced auto registration\, prescription assistance\, property tax/rent rebate\, etc.
URL:https://bwsac.org/calendar/staff-from-state-rep-brian-munroe/2027-02-24/
CATEGORIES:Events
END:VEVENT
BEGIN:VEVENT
DTSTART;TZID=America/New_York:20270331T100000
DTEND;TZID=America/New_York:20270331T120000
DTSTAMP:20260422T062418
CREATED:20241231T182350Z
LAST-MODIFIED:20241231T182418Z
UID:10013863-1806487200-1806494400@bwsac.org
SUMMARY:Staff from State Rep. Brian Munroe
DESCRIPTION:Brian Munroe’s office staff will be coming on the last Wednesday of each month to assist you with Septa pass sign-up\, energy assistance\, reduced auto registration\, prescription assistance\, property tax/rent rebate\, etc.
URL:https://bwsac.org/calendar/staff-from-state-rep-brian-munroe/2027-03-31/
CATEGORIES:Events
END:VEVENT
BEGIN:VEVENT
DTSTART;TZID=America/New_York:20270428T100000
DTEND;TZID=America/New_York:20270428T120000
DTSTAMP:20260422T062418
CREATED:20241231T182350Z
LAST-MODIFIED:20241231T182418Z
UID:10013864-1808906400-1808913600@bwsac.org
SUMMARY:Staff from State Rep. Brian Munroe
DESCRIPTION:Brian Munroe’s office staff will be coming on the last Wednesday of each month to assist you with Septa pass sign-up\, energy assistance\, reduced auto registration\, prescription assistance\, property tax/rent rebate\, etc.
URL:https://bwsac.org/calendar/staff-from-state-rep-brian-munroe/2027-04-28/
CATEGORIES:Events
END:VEVENT
BEGIN:VEVENT
DTSTART;TZID=America/New_York:20270526T100000
DTEND;TZID=America/New_York:20270526T120000
DTSTAMP:20260422T062418
CREATED:20241231T182350Z
LAST-MODIFIED:20241231T182418Z
UID:10013865-1811325600-1811332800@bwsac.org
SUMMARY:Staff from State Rep. Brian Munroe
DESCRIPTION:Brian Munroe’s office staff will be coming on the last Wednesday of each month to assist you with Septa pass sign-up\, energy assistance\, reduced auto registration\, prescription assistance\, property tax/rent rebate\, etc.
URL:https://bwsac.org/calendar/staff-from-state-rep-brian-munroe/2027-05-26/
CATEGORIES:Events
END:VEVENT
BEGIN:VEVENT
DTSTART;TZID=America/New_York:20270630T100000
DTEND;TZID=America/New_York:20270630T120000
DTSTAMP:20260422T062418
CREATED:20241231T182350Z
LAST-MODIFIED:20241231T182418Z
UID:10013866-1814349600-1814356800@bwsac.org
SUMMARY:Staff from State Rep. Brian Munroe
DESCRIPTION:Brian Munroe’s office staff will be coming on the last Wednesday of each month to assist you with Septa pass sign-up\, energy assistance\, reduced auto registration\, prescription assistance\, property tax/rent rebate\, etc.
URL:https://bwsac.org/calendar/staff-from-state-rep-brian-munroe/2027-06-30/
CATEGORIES:Events
END:VEVENT
BEGIN:VEVENT
DTSTART;TZID=America/New_York:20270728T100000
DTEND;TZID=America/New_York:20270728T120000
DTSTAMP:20260422T062418
CREATED:20241231T182350Z
LAST-MODIFIED:20241231T182418Z
UID:10013867-1816768800-1816776000@bwsac.org
SUMMARY:Staff from State Rep. Brian Munroe
DESCRIPTION:Brian Munroe’s office staff will be coming on the last Wednesday of each month to assist you with Septa pass sign-up\, energy assistance\, reduced auto registration\, prescription assistance\, property tax/rent rebate\, etc.
URL:https://bwsac.org/calendar/staff-from-state-rep-brian-munroe/2027-07-28/
CATEGORIES:Events
END:VEVENT
BEGIN:VEVENT
DTSTART;TZID=America/New_York:20270825T100000
DTEND;TZID=America/New_York:20270825T120000
DTSTAMP:20260422T062418
CREATED:20241231T182350Z
LAST-MODIFIED:20241231T182418Z
UID:10013868-1819188000-1819195200@bwsac.org
SUMMARY:Staff from State Rep. Brian Munroe
DESCRIPTION:Brian Munroe’s office staff will be coming on the last Wednesday of each month to assist you with Septa pass sign-up\, energy assistance\, reduced auto registration\, prescription assistance\, property tax/rent rebate\, etc.
URL:https://bwsac.org/calendar/staff-from-state-rep-brian-munroe/2027-08-25/
CATEGORIES:Events
END:VEVENT
BEGIN:VEVENT
DTSTART;TZID=America/New_York:20270929T100000
DTEND;TZID=America/New_York:20270929T120000
DTSTAMP:20260422T062418
CREATED:20241231T182350Z
LAST-MODIFIED:20241231T182418Z
UID:10013869-1822212000-1822219200@bwsac.org
SUMMARY:Staff from State Rep. Brian Munroe
DESCRIPTION:Brian Munroe’s office staff will be coming on the last Wednesday of each month to assist you with Septa pass sign-up\, energy assistance\, reduced auto registration\, prescription assistance\, property tax/rent rebate\, etc.
URL:https://bwsac.org/calendar/staff-from-state-rep-brian-munroe/2027-09-29/
CATEGORIES:Events
END:VEVENT
BEGIN:VEVENT
DTSTART;TZID=America/New_York:20271027T100000
DTEND;TZID=America/New_York:20271027T120000
DTSTAMP:20260422T062418
CREATED:20241231T182350Z
LAST-MODIFIED:20241231T182418Z
UID:10013870-1824631200-1824638400@bwsac.org
SUMMARY:Staff from State Rep. Brian Munroe
DESCRIPTION:Brian Munroe’s office staff will be coming on the last Wednesday of each month to assist you with Septa pass sign-up\, energy assistance\, reduced auto registration\, prescription assistance\, property tax/rent rebate\, etc.
URL:https://bwsac.org/calendar/staff-from-state-rep-brian-munroe/2027-10-27/
CATEGORIES:Events
END:VEVENT
BEGIN:VEVENT
DTSTART;TZID=America/New_York:20271124T100000
DTEND;TZID=America/New_York:20271124T120000
DTSTAMP:20260422T062418
CREATED:20241231T182350Z
LAST-MODIFIED:20241231T182418Z
UID:10013871-1827050400-1827057600@bwsac.org
SUMMARY:Staff from State Rep. Brian Munroe
DESCRIPTION:Brian Munroe’s office staff will be coming on the last Wednesday of each month to assist you with Septa pass sign-up\, energy assistance\, reduced auto registration\, prescription assistance\, property tax/rent rebate\, etc.
URL:https://bwsac.org/calendar/staff-from-state-rep-brian-munroe/2027-11-24/
CATEGORIES:Events
END:VEVENT
BEGIN:VEVENT
DTSTART;TZID=America/New_York:20271229T100000
DTEND;TZID=America/New_York:20271229T120000
DTSTAMP:20260422T062418
CREATED:20241231T182350Z
LAST-MODIFIED:20241231T182418Z
UID:10013872-1830074400-1830081600@bwsac.org
SUMMARY:Staff from State Rep. Brian Munroe
DESCRIPTION:Brian Munroe’s office staff will be coming on the last Wednesday of each month to assist you with Septa pass sign-up\, energy assistance\, reduced auto registration\, prescription assistance\, property tax/rent rebate\, etc.
URL:https://bwsac.org/calendar/staff-from-state-rep-brian-munroe/2027-12-29/
CATEGORIES:Events
END:VEVENT
BEGIN:VEVENT
DTSTART;TZID=America/New_York:20280126T100000
DTEND;TZID=America/New_York:20280126T120000
DTSTAMP:20260422T062418
CREATED:20241231T182350Z
LAST-MODIFIED:20241231T182418Z
UID:10013873-1832493600-1832500800@bwsac.org
SUMMARY:Staff from State Rep. Brian Munroe
DESCRIPTION:Brian Munroe’s office staff will be coming on the last Wednesday of each month to assist you with Septa pass sign-up\, energy assistance\, reduced auto registration\, prescription assistance\, property tax/rent rebate\, etc.
URL:https://bwsac.org/calendar/staff-from-state-rep-brian-munroe/2028-01-26/
CATEGORIES:Events
END:VEVENT
BEGIN:VEVENT
DTSTART;TZID=America/New_York:20280223T100000
DTEND;TZID=America/New_York:20280223T120000
DTSTAMP:20260422T062418
CREATED:20241231T182350Z
LAST-MODIFIED:20241231T182418Z
UID:10013874-1834912800-1834920000@bwsac.org
SUMMARY:Staff from State Rep. Brian Munroe
DESCRIPTION:Brian Munroe’s office staff will be coming on the last Wednesday of each month to assist you with Septa pass sign-up\, energy assistance\, reduced auto registration\, prescription assistance\, property tax/rent rebate\, etc.
URL:https://bwsac.org/calendar/staff-from-state-rep-brian-munroe/2028-02-23/
CATEGORIES:Events
END:VEVENT
BEGIN:VEVENT
DTSTART;TZID=America/New_York:20280329T100000
DTEND;TZID=America/New_York:20280329T120000
DTSTAMP:20260422T062418
CREATED:20241231T182350Z
LAST-MODIFIED:20241231T182418Z
UID:10013875-1837936800-1837944000@bwsac.org
SUMMARY:Staff from State Rep. Brian Munroe
DESCRIPTION:Brian Munroe’s office staff will be coming on the last Wednesday of each month to assist you with Septa pass sign-up\, energy assistance\, reduced auto registration\, prescription assistance\, property tax/rent rebate\, etc.
URL:https://bwsac.org/calendar/staff-from-state-rep-brian-munroe/2028-03-29/
CATEGORIES:Events
END:VEVENT
BEGIN:VEVENT
DTSTART;TZID=America/New_York:20280426T100000
DTEND;TZID=America/New_York:20280426T120000
DTSTAMP:20260422T062418
CREATED:20241231T182350Z
LAST-MODIFIED:20241231T182418Z
UID:10013876-1840356000-1840363200@bwsac.org
SUMMARY:Staff from State Rep. Brian Munroe
DESCRIPTION:Brian Munroe’s office staff will be coming on the last Wednesday of each month to assist you with Septa pass sign-up\, energy assistance\, reduced auto registration\, prescription assistance\, property tax/rent rebate\, etc.
URL:https://bwsac.org/calendar/staff-from-state-rep-brian-munroe/2028-04-26/
CATEGORIES:Events
END:VEVENT
BEGIN:VEVENT
DTSTART;TZID=America/New_York:20280531T100000
DTEND;TZID=America/New_York:20280531T120000
DTSTAMP:20260422T062418
CREATED:20241231T182350Z
LAST-MODIFIED:20241231T182418Z
UID:10013877-1843380000-1843387200@bwsac.org
SUMMARY:Staff from State Rep. Brian Munroe
DESCRIPTION:Brian Munroe’s office staff will be coming on the last Wednesday of each month to assist you with Septa pass sign-up\, energy assistance\, reduced auto registration\, prescription assistance\, property tax/rent rebate\, etc.
URL:https://bwsac.org/calendar/staff-from-state-rep-brian-munroe/2028-05-31/
CATEGORIES:Events
END:VEVENT
BEGIN:VEVENT
DTSTART;TZID=America/New_York:20280628T100000
DTEND;TZID=America/New_York:20280628T120000
DTSTAMP:20260422T062418
CREATED:20241231T182350Z
LAST-MODIFIED:20241231T182418Z
UID:10013878-1845799200-1845806400@bwsac.org
SUMMARY:Staff from State Rep. Brian Munroe
DESCRIPTION:Brian Munroe’s office staff will be coming on the last Wednesday of each month to assist you with Septa pass sign-up\, energy assistance\, reduced auto registration\, prescription assistance\, property tax/rent rebate\, etc.
URL:https://bwsac.org/calendar/staff-from-state-rep-brian-munroe/2028-06-28/
CATEGORIES:Events
END:VEVENT
BEGIN:VEVENT
DTSTART;TZID=America/New_York:20280726T100000
DTEND;TZID=America/New_York:20280726T120000
DTSTAMP:20260422T062418
CREATED:20241231T182350Z
LAST-MODIFIED:20241231T182418Z
UID:10013879-1848218400-1848225600@bwsac.org
SUMMARY:Staff from State Rep. Brian Munroe
DESCRIPTION:Brian Munroe’s office staff will be coming on the last Wednesday of each month to assist you with Septa pass sign-up\, energy assistance\, reduced auto registration\, prescription assistance\, property tax/rent rebate\, etc.
URL:https://bwsac.org/calendar/staff-from-state-rep-brian-munroe/2028-07-26/
CATEGORIES:Events
END:VEVENT
BEGIN:VEVENT
DTSTART;TZID=America/New_York:20280830T100000
DTEND;TZID=America/New_York:20280830T120000
DTSTAMP:20260422T062418
CREATED:20241231T182350Z
LAST-MODIFIED:20241231T182418Z
UID:10013880-1851242400-1851249600@bwsac.org
SUMMARY:Staff from State Rep. Brian Munroe
DESCRIPTION:Brian Munroe’s office staff will be coming on the last Wednesday of each month to assist you with Septa pass sign-up\, energy assistance\, reduced auto registration\, prescription assistance\, property tax/rent rebate\, etc.
URL:https://bwsac.org/calendar/staff-from-state-rep-brian-munroe/2028-08-30/
CATEGORIES:Events
END:VEVENT
BEGIN:VEVENT
DTSTART;TZID=America/New_York:20280927T100000
DTEND;TZID=America/New_York:20280927T120000
DTSTAMP:20260422T062418
CREATED:20241231T182350Z
LAST-MODIFIED:20241231T182418Z
UID:10013881-1853661600-1853668800@bwsac.org
SUMMARY:Staff from State Rep. Brian Munroe
DESCRIPTION:Brian Munroe’s office staff will be coming on the last Wednesday of each month to assist you with Septa pass sign-up\, energy assistance\, reduced auto registration\, prescription assistance\, property tax/rent rebate\, etc.
URL:https://bwsac.org/calendar/staff-from-state-rep-brian-munroe/2028-09-27/
CATEGORIES:Events
END:VEVENT
END:VCALENDAR